BEGIN:VCALENDAR
VERSION:2.0
PRODID:-//Move To Provo Utah - ECPv6.15.20//NONSGML v1.0//EN
CALSCALE:GREGORIAN
METHOD:PUBLISH
X-ORIGINAL-URL:https://movetoprovoutah.com
X-WR-CALDESC:Events for Move To Provo Utah
REFRESH-INTERVAL;VALUE=DURATION:PT1H
X-Robots-Tag:noindex
X-PUBLISHED-TTL:PT1H
BEGIN:VTIMEZONE
TZID:America/Denver
BEGIN:DAYLIGHT
TZOFFSETFROM:-0700
TZOFFSETTO:-0600
TZNAME:MDT
DTSTART:20220313T090000
END:DAYLIGHT
BEGIN:STANDARD
TZOFFSETFROM:-0600
TZOFFSETTO:-0700
TZNAME:MST
DTSTART:20221106T080000
END:STANDARD
BEGIN:DAYLIGHT
TZOFFSETFROM:-0700
TZOFFSETTO:-0600
TZNAME:MDT
DTSTART:20230312T090000
END:DAYLIGHT
BEGIN:STANDARD
TZOFFSETFROM:-0600
TZOFFSETTO:-0700
TZNAME:MST
DTSTART:20231105T080000
END:STANDARD
BEGIN:DAYLIGHT
TZOFFSETFROM:-0700
TZOFFSETTO:-0600
TZNAME:MDT
DTSTART:20240310T090000
END:DAYLIGHT
BEGIN:STANDARD
TZOFFSETFROM:-0600
TZOFFSETTO:-0700
TZNAME:MST
DTSTART:20241103T080000
END:STANDARD
BEGIN:DAYLIGHT
TZOFFSETFROM:-0700
TZOFFSETTO:-0600
TZNAME:MDT
DTSTART:20250309T090000
END:DAYLIGHT
BEGIN:STANDARD
TZOFFSETFROM:-0600
TZOFFSETTO:-0700
TZNAME:MST
DTSTART:20251102T080000
END:STANDARD
END:VTIMEZONE
BEGIN:VEVENT
DTSTART;VALUE=DATE:20240805
DTEND;VALUE=DATE:20241231
DTSTAMP:20260421T151919
CREATED:20240715T165314Z
LAST-MODIFIED:20240715T234101Z
UID:14067-1722816000-1735603199@movetoprovoutah.com
SUMMARY:FHE at the MOA
DESCRIPTION:Enjoy a special Family Home Evening tour or explore the museum on your own\, designed to engage families in art and creativity. \n\nEvery Monday \nAugust 5\, 12\, 19\, 26 2024 \nSeptember 2\, 9\, 16\, 23\, 30 2024 \nOctober 7\, 14\, 21\, 28 2024 \nNovember 4\, 11\, 18\, 25 2024 \nDecember 2\, 9\, 16\, 23\, 30 2024 \n\nFor more museum events\, check out our comprehensive list: BYU Museum of Art Events 2024 \nCheck out our events calendar for all the fun events in Provo Utah: Provo Utah Events
URL:https://movetoprovoutah.com/events-plugin/fhe-at-the-moa/
LOCATION:BYU Museum of Art\, Brigham Young University\, Campus Dr\, Provo\, UT\, 84602\, United States
ATTACH;FMTTYPE=image/jpeg:https://movetoprovoutah.com/wp-content/uploads/2024/01/BYU-Art-Museum-in-Provo-Ut.jpg
END:VEVENT
BEGIN:VEVENT
DTSTART;VALUE=DATE:20230301
DTEND;VALUE=DATE:20230801
DTSTAMP:20260421T151919
CREATED:20230420T201305Z
LAST-MODIFIED:20230903T071602Z
UID:2108-1677628800-1690847999@movetoprovoutah.com
SUMMARY:America’s Freedom Festival in Provo Utah 2023
DESCRIPTION:America’s Freedom Festival at Provo is a private\, non-profit\, non-political foundation whose mission is to celebrate\, teach\, honor\, and strengthen the traditional American values of God\, family\, freedom\, and country. \n\nDate of America’s Freedom Festival in Provo\, Utah \nThe America’s Freedom Festival runs from March to July\, culminating in a grand celebration on Independence Day.  \n\nLocation of America’s Freedom Festival in Provo\, Utah \nThe main event of the festival\, the Stadium of Fire\, will be held at Brigham Young University’s LaVell Edwards Stadium in Provo\, Utah.  \n\nAbout America’s Freedom Festival in Provo\, Utah – 2023 \nAre you ready for the biggest and best Fourth of July celebration ever? Well\, get ready to mark your calendars for America’s Freedom Festival in Provo\, Utah in 2023!  \nThis annual festival has been around since the 1870s\, way before Utah even became a state!  \nEach year\, the festival mounts over 25 annual events starting in March\, but the real highlight is on the Fourth of July. And let me tell you\, the events they organize are truly amazing! \n\nHere are some of the events that you simply cannot miss: \n2023 Firecracker Softball Tournament\n\nCome on out to Footprinter Park in Provo and enjoy this fun and unique softball tournament. There will be tournaments for almost all classifications\, skill competitions\, food trucks\, and awards to recognize the champions. The tournament will run from June 9-17\, 2023. Click here to register your team: https://www.freedomfestival.org/event/firecracker-softball-tournament/ \n2023 Flag Retirement Ceremony\nEveryone is welcome to this night of honor which will be held at Provo Veterans Memorial Park. Dress patriotically and be part of this day of recognition for fire fighters\, police\, safety officers\, and paramedic first responders. Freedom Festival’s Flag Retirement Ceremony will be held on June 14\, 2023. \n2023 Summer Beach Party\nNow at it’s 10th year\, the Freedom Festival’s Summer Beach Party has always been one of the many highlights of this yearly celebration. There’s something for everyone on this evening of beach time fun. So make a splash on June 23 by sporting your shades and join some fun beach games\, life-sized photo ops and live entertainment! \n2023 Children’s Parade\nThe Children’s Parade is not only a fun activity for the family\, it also is a chance to educate the youth on freedom and respect. Children are arranged in different categories and accompanied by the Provo and Timpview High School marching bands. The parade lasts almost 45 minutes and participants have the chance to meet important public servants plus a treat at the end. \n2023 Freedom Awards Gala\nThose who risked their lives to preserve our freedom deserve to be recognized and the Freedom Awards Gala is an opportunity to express our gratitude to them. Join us as we present the award recipients who will join an impressive list of previous honorees who have each made unique contributions to the defense and sharing of the traditional American values. \nEvents at the American Freedom Festival also include the Grand Parade\, Freedom Run\, Balloon Fest\, and so much more. Trust me when I say there is never a dull moment at America’s Freedom Festival! \nThis festival is a non-profit\, non-political foundation with a mission to teach\, celebrate\, honor\, and strengthen traditional American values of God\, family\, freedom\, and country.  \nHundreds of thousands of spectators from all 50 states and other countries come to witness this incredible event.  \nIn fact\, it’s been named as one of North America’s Top 100 Events by Destinations Magazine and the American Bus Association\, so you know it’s gotta be good.  \nAmerica’s Freedom Festival need all hands on deck to help make this celebration unforgettable\, and that means they need YOU.   \nThere are tons of volunteer opportunities available\, like balloon handler\, parade announcer\, route manager\, security\, and much more.  \nHead on over to the festival’s website and sign up to volunteer! You can choose which events you want to be a part of and when you’re available.  \nSee you there!
URL:https://movetoprovoutah.com/events-plugin/americas-freedom-festival-in-provo-utah-2023/
LOCATION:Brigham Young University’s LaVell Edwards Stadium\, Provo\, UT\, United States
ATTACH;FMTTYPE=image/jpeg:https://movetoprovoutah.com/wp-content/uploads/2023/04/Americas-Freedom-Festival-in-Provo-Utah-2023.jpg
END:VEVENT
BEGIN:VEVENT
DTSTART;TZID=America/Denver:20230410T180000
DTEND;TZID=America/Denver:20230410T210000
DTSTAMP:20260421T151919
CREATED:20230320T191909Z
LAST-MODIFIED:20230811T095511Z
UID:1382-1681149600-1681160400@movetoprovoutah.com
SUMMARY:Easter Family Night at BYU in Provo\, Utah
DESCRIPTION:Date and Time of Easter Family Night at BYU in Provo\, Utah \nCome join us for a festive celebration of the Easter season in beautiful Provo\, Utah on April 10\, 2023\, from 6:00 p.m. to 9:00 p.m. \n\nLocation of Easter Family Night Event at BYU in Provo\, Utah \nThe Easter Family Night will take place at the Bean Life Science Museum at 645 East 1430 North\, Brigham Young University in Provo\, Utah 84602.  \nYou won’t have to worry about parking. Head over to the parking lot north of the museum – just follow the signs when you arrive.  \n\nAbout Easter Family Night at BYU in Provo\, Utah\nCome join us at the BYU Life Science Museum\, Provo\, Utah for a special Easter Family Night on Monday\, April 10th from 6-9 p.m.! \n I can tell you that it’s going to be a Family Home Evening (FHE) with a new adventure!  \nAt Easter Family Night\, we’ll have all sorts of activities happening around the museum.  \nYou can take part in a scavenger hunt\, work on crafts with your kids\, or join one of the programs. And all these activities are completely free!  \nSo if you’re looking for something fun to do this Easter season\, look no further than our Easter Family Night at the BYU Life Science Museum!  \nI guarantee that everyone in your family will be having a blast with all of our exciting activities.  \nYou can get in touch with BYU Life Science Museum by phone at (801) 422-6698 or via email at beanmuseum@gmail.com to get more information.  \nDon’t forget to follow BYU Life Science Museum on Facebook or check their website to stay updated on this event and find out about other upcoming events.  \nI hope to see you and your family at the Easter Family Night on April 10th!
URL:https://movetoprovoutah.com/events-plugin/easter-family-night-at-byu-in-provo-utah/
LOCATION:Bean Life Science Museum\, 645 East 1430 North\, Brigham Young University\, Provo\, UT\, 84602\, United States
ATTACH;FMTTYPE=image/png:https://movetoprovoutah.com/wp-content/uploads/2023/03/Easter-Family-Night-in-Provo-Utah.png
END:VEVENT
END:VCALENDAR