BEGIN:VCALENDAR
VERSION:2.0
PRODID:-//Move To Provo Utah - ECPv6.15.20//NONSGML v1.0//EN
CALSCALE:GREGORIAN
METHOD:PUBLISH
X-ORIGINAL-URL:https://movetoprovoutah.com
X-WR-CALDESC:Events for Move To Provo Utah
REFRESH-INTERVAL;VALUE=DURATION:PT1H
X-Robots-Tag:noindex
X-PUBLISHED-TTL:PT1H
BEGIN:VTIMEZONE
TZID:America/Denver
BEGIN:DAYLIGHT
TZOFFSETFROM:-0700
TZOFFSETTO:-0600
TZNAME:MDT
DTSTART:20220313T090000
END:DAYLIGHT
BEGIN:STANDARD
TZOFFSETFROM:-0600
TZOFFSETTO:-0700
TZNAME:MST
DTSTART:20221106T080000
END:STANDARD
BEGIN:DAYLIGHT
TZOFFSETFROM:-0700
TZOFFSETTO:-0600
TZNAME:MDT
DTSTART:20230312T090000
END:DAYLIGHT
BEGIN:STANDARD
TZOFFSETFROM:-0600
TZOFFSETTO:-0700
TZNAME:MST
DTSTART:20231105T080000
END:STANDARD
BEGIN:DAYLIGHT
TZOFFSETFROM:-0700
TZOFFSETTO:-0600
TZNAME:MDT
DTSTART:20240310T090000
END:DAYLIGHT
BEGIN:STANDARD
TZOFFSETFROM:-0600
TZOFFSETTO:-0700
TZNAME:MST
DTSTART:20241103T080000
END:STANDARD
BEGIN:DAYLIGHT
TZOFFSETFROM:-0700
TZOFFSETTO:-0600
TZNAME:MDT
DTSTART:20250309T090000
END:DAYLIGHT
BEGIN:STANDARD
TZOFFSETFROM:-0600
TZOFFSETTO:-0700
TZNAME:MST
DTSTART:20251102T080000
END:STANDARD
END:VTIMEZONE
BEGIN:VEVENT
DTSTART;VALUE=DATE:20240805
DTEND;VALUE=DATE:20241231
DTSTAMP:20260421T111943
CREATED:20240715T165314Z
LAST-MODIFIED:20240715T234101Z
UID:14067-1722816000-1735603199@movetoprovoutah.com
SUMMARY:FHE at the MOA
DESCRIPTION:Enjoy a special Family Home Evening tour or explore the museum on your own\, designed to engage families in art and creativity. \n\nEvery Monday \nAugust 5\, 12\, 19\, 26 2024 \nSeptember 2\, 9\, 16\, 23\, 30 2024 \nOctober 7\, 14\, 21\, 28 2024 \nNovember 4\, 11\, 18\, 25 2024 \nDecember 2\, 9\, 16\, 23\, 30 2024 \n\nFor more museum events\, check out our comprehensive list: BYU Museum of Art Events 2024 \nCheck out our events calendar for all the fun events in Provo Utah: Provo Utah Events
URL:https://movetoprovoutah.com/events-plugin/fhe-at-the-moa/
LOCATION:BYU Museum of Art\, Brigham Young University\, Campus Dr\, Provo\, UT\, 84602\, United States
ATTACH;FMTTYPE=image/jpeg:https://movetoprovoutah.com/wp-content/uploads/2024/01/BYU-Art-Museum-in-Provo-Ut.jpg
END:VEVENT
BEGIN:VEVENT
DTSTART;TZID=America/Denver:20230705T170000
DTEND;TZID=America/Denver:20231025T235900
DTSTAMP:20260421T111943
CREATED:20230610T085534Z
LAST-MODIFIED:20230903T084150Z
UID:3161-1688576400-1698278340@movetoprovoutah.com
SUMMARY:Orem's Sunset Farmer's Market 2023 in Orem\, Utah
DESCRIPTION:Date and Time of Orem’s Sunset Farmer’s Market 2023 in Orem\, Utah \nThe Orem’s Sunset Farmer’s Market in Orem\, Utah will start on July 5\, 2023\, until October 25\, 2023\, from 5:00 p.m. to 11:59 p.m. \n\nLocation of Orem’s Sunset Farmer’s Market 2023 in Orem\, Utah \nThe Orem’s Sunset Farmer’s Market 2023 will be held at City Center Park in Orem\, located at 300 East Center Street\, Orem\, UT 84097. \n\nAbout Orem’s Sunset Farmer’s Market 2023 in Orem\, Utah \nOrem’s Sunset Farmer’s Market 2023 is approaching quickly\, and it’s an event you won’t want to miss.  \nSunset Farmer’s Market is bringing over 80 small local businesses right to City Center Park in Orem\, UT\, starting from July 5th to October 25th. That’s every Wednesday evening\, so mark those calendars!  \nOne of the best things about this event is the opportunity to support our local economy and connect directly with farmers and producers. You’ll find all sorts of locally grown and raised eggs\, milk\, honey\, and so much more.  \nWhat could be better than savoring the best of Utah’s harvest while supporting the community you love?  \nYou’ll also get to hear some of the area’s best musicians playing live while you check out the stalls. The music creates an incredible vibe that adds to the already bustling atmosphere.  \nYou can wander through the art displays and see some amazing pieces. Each one captures the essence of the creative community of Orem\, Utah.  \nWith so much to explore and enjoy\, I know that Orem’s Sunset Farmer’s Market 2023 is a must-visit place to be this summer. You never know what treasures you’ll find! 
URL:https://movetoprovoutah.com/events-plugin/orems-sunset-farmers-market-2023-in-orem-utah/
LOCATION:City Center Park in Orem\, 300 East Center Street\, Orem\, UT\, 84097\, United States
ATTACH;FMTTYPE=image/png:https://movetoprovoutah.com/wp-content/uploads/2023/06/Orems-Sunset-Farmers-Market-2023-in-Orem-Utah.png
END:VEVENT
BEGIN:VEVENT
DTSTART;TZID=America/Denver:20230713T080000
DTEND;TZID=America/Denver:20231026T170000
DTSTAMP:20260421T111943
CREATED:20230716T134955Z
LAST-MODIFIED:20230716T180543Z
UID:3854-1689235200-1698339600@movetoprovoutah.com
SUMMARY:Lindon's Sunset Farmer's Market 2023 in Lindon\, Utah 
DESCRIPTION:Date and Time of Lindon’s Sunset Farmer’s Market 2023 \nThe Lindon’s Sunset Farmer’s Market runs from July 13th through October 26th\, every Thursday. \n\nLocation of Lindon’s Sunset Farmer’s Market 2023 \nThe Lindon’s Sunset Farmer’s Market 2023 will take place at Lindon City Center Park\, located at 200 North State Street\, Lindon\, Utah 84042\, United States.  \n\nAbout Lindon’s Sunset Farmer’s Market 2023 \nThis amazing event\, organized by Sunset Farmers Market\, is happening every Thursday evening from July to October. That means you’ll have many chances to indulge some of the best goods Lindon’s local businesses have to offer. \nThis market has it all\, whether you’re looking for a particular type of produce or want to discover something new. With over 50 local businesses participating\, you can take your time wandering from stall to stall\, sampling some of the freshest and most delicious foods of Utah.  \nLet’s not forget about the artisan baked goods. Who doesn’t love a fresh loaf of bread or a decadent pastry? Make sure to leave some room for these scrumptious treats because they are simply irresistible.  \nIf food isn’t really your thing\, don’t worry because there are plenty of other things to explore at Lindon’s Sunset Farmer’s Market.  \nThe market also features some talented local artists. You’ll find unique pieces of jewelry\, handmade soaps\, and even paintings and prints that showcase the vibrant spirit of the community.  \nBrowsing the various artists’ booths is a great way to support local entrepreneurs and bring some unique finds home with you.  \nEntertainment is also a key component of this must-attend event. Live music will be playing in the background as you browse the stalls.  \nOne of my favorite parts of any farmers market – the food trucks! The Tempting desserts\, sandwiches\, and more – the options are endless.  \nBut\, let’s not forget about the real value of Lindon’s Sunset Farmer’s Market: community. It’s a place where friends and families can all come together and share in the joy of supporting local businesses.  \nIt’s a place where you can connect with others who share your love for good food and quality products.  \nIn case the dates don’t work for you\, these are the local areas with Farmer’s Markets:  \n\nEvermore Farmer’s Market \nSpringville’s Sunset Farmer’s Market \nProvo Farmer’s Market 
URL:https://movetoprovoutah.com/events-plugin/lindons-sunset-farmers-market-2023-in-lindon-utah/
LOCATION:Lindon City Center Park\, 200 North State Street\, Lindon\, UT\, 84042\, United States
ATTACH;FMTTYPE=image/jpeg:https://movetoprovoutah.com/wp-content/uploads/2023/07/Lindons-Sunset-Farmers-Market-2023-in-Lindon-Utah.jpg
END:VEVENT
BEGIN:VEVENT
DTSTART;VALUE=DATE:20230715
DTEND;VALUE=DATE:20231029
DTSTAMP:20260421T111943
CREATED:20230716T141713Z
LAST-MODIFIED:20230716T180520Z
UID:3878-1689379200-1698537599@movetoprovoutah.com
SUMMARY:Evermore Farmer's Market 2023 in Pleasant Grove\, Utah
DESCRIPTION:Date and Time of Evermore Farmer’s Market 2023 in Pleasant Grove\, Utah \nThe Evermore Farmer’s Market takes place every Saturday starting on July 15th until October 28th\, 2023.  \n\nLocation of Evermore Farmer’s Market 2023 in Pleasant Grove\, Utah \nYou’ll find the Evermore Farmer’s Market at the enchanting Evermore Park\, located at 382 S Evermore Lane in Pleasant Grove\, Utah.  \n\nAbout Evermore Farmer’s Market 2023 in Pleasant Grove\, Utah \nAre you ready for a summer of fun and excitement at the Evermore Farmer’s Market 2023 in Pleasant Grove\, Utah? This event has something to offer for everyone\, from fresh fruits and vegetables to unique handmade art pieces.  \nEvery Saturday from July 15 to October 28th\, the Evermore Farmer’s Market will be buzzing with activity. With so many fresh and delicious produce options available\, you’ll be able to get your fill and support local farmers at the same time.  \nWhile you’re browsing the stalls\, don’t forget to check out the amazing handmade art pieces created by talented local artisans. There’s no better way to support your community than by shopping local.  \nOne of my favorite parts of the Evermore Farmer’s Market has to be its lively atmosphere. You won’t want to miss the local musicians performing in the background while you shop. It really makes for a festive and fun experience!  \nThere are also plenty of vendors offering unique food options you won’t find anywhere else.  \nThere are so many things to love about this event. But for me\, the most exciting aspect is the opportunity to explore new and exciting things. Who knows? You might find your new favorite piece of clothing or a one-of-a-kind art piece that speaks to you.  \nThe Evermore Farmer’s Market is full of surprises and hidden gems. \nSo\, if you’re looking for something to do on a Saturday morning or afternoon\, look no further. The Evermore Farmer’s Market is the place to be!  \nMake sure you follow Evermore Park on Facebook\, so you don’t miss any updates leading up to the event.  \nIn case the dates don’t work for you\, these are the local areas with Farmer’s Markets:  \n\nLindon’s Farmer’s Market \nSpringville’s Sunset Farmer’s Market \nProvo Farmer’s Market 
URL:https://movetoprovoutah.com/events-plugin/evermore-farmers-market-2023-in-pleasant-grove-utah/
LOCATION:Evermore Park\, 382 S Evermore Lane\, Pleasant Grove\, UT\, 84062\, United States
ATTACH;FMTTYPE=image/jpeg:https://movetoprovoutah.com/wp-content/uploads/2023/07/Evermore-Farmers-Market-2023-in-Pleasant-Grove-Utah.jpg
END:VEVENT
BEGIN:VEVENT
DTSTART;VALUE=DATE:20230715
DTEND;VALUE=DATE:20231029
DTSTAMP:20260421T111943
CREATED:20230716T142419Z
LAST-MODIFIED:20230716T180441Z
UID:3889-1689379200-1698537599@movetoprovoutah.com
SUMMARY:2023 Provo Farmer's Market in Provo\, Utah 
DESCRIPTION:Date and Time of 2023 Provo Farmer’s Market in Provo\, Utah \nThe 2023 Provo Farmer’s Market will take place every Saturday from July 15 to October 28\, 2023. \n\nLocation of 2023 Provo Farmer’s Market in Provo\, Utah \nThe 2023 Provo Farmer’s Market is held in Pioneer Park\, at 500 West Center Street\, Provo\, Utah.  \nCheck out this map to find the best parking spot.  \n\nAbout 2023 Provo Farmer’s Market in Provo\, Utah \nGet ready to fill your shopping bags with locally grown and fresh produce\, homemade artisan crafts\, and so much more at the 2023 Provo Farmer’s Market!  \nHere at the 2023 Provo Farmer’s Market\, you can get true farm-to-table goodness. You can find your favorite fruits and veggies for the week\, plus a few extras. With every purchase\, you are supporting small farmers\, and that’s an incredible impactful thing to do.  \nBut that’s not all! The market is also home to an array of unique art and crafts created by our talented local artists. You can find beautiful handcrafted jewelry\, hand-painted ceramics\, and more! These pieces are one-of-a-kind\, making them a treasure to add to your personal collection. \nThe 2023 Provo Farmer’s Market is happening from July to October\, and you don’t want to miss it! Here are the dates:  \n\nJuly 15th\, 22nd\, and 29th\nAugust 5th\, 12th\, 19th\, and 26th\nSeptember 2nd\, 9th\, 16th\, 23rd\, and 30th\nOctober 7th\, 14th\, 21st\, and 28th. \n\nHow cool is that! There’s so much you can explore every single week.  \nSo\, put aside all your other commitments and clear your schedule. You won’t want to miss out on all the goodness waiting for you at the 2023 Provo Farmer’s Market.  \nI promise you won’t be disappointed.  \nIn case these dates don’t work for you\, these are the local areas with Farmer’s Markets:  \n\nEvermore Farmer’s Market \nSpringville’s Sunset Farmer’s Market \nLindon’s Sunset Farmer’s Market 
URL:https://movetoprovoutah.com/events-plugin/2023-provo-farmers-market-in-provo-utah/
LOCATION:Pioneer Park\, 500 West Center Street\, Provo\, UT\, United States
ATTACH;FMTTYPE=image/jpeg:https://movetoprovoutah.com/wp-content/uploads/2023/07/2023-Provo-Farmers-Market-in-Provo-Utah.jpg
END:VEVENT
BEGIN:VEVENT
DTSTART;TZID=America/Denver:20230717T170000
DTEND;TZID=America/Denver:20231031T170000
DTSTAMP:20260421T111943
CREATED:20230715T183639Z
LAST-MODIFIED:20230716T180623Z
UID:3785-1689613200-1698771600@movetoprovoutah.com
SUMMARY:Springville's Sunset Farmer's Market 2023 in Springville\, Utah
DESCRIPTION:Date and Time of Springville’s Sunset Farmer’s Market 2023 in Springville\, Utah \nThe Springville’s Sunset Farmer’s Market will be open every Monday at 5:00 p.m. starting this July 17th until the end of October 2023. \n\nLocation of Springville’s Sunset Farmer’s Market 2023 in Springville\, Utah \nThe Springville’s Sunset Farmer’s Market will be held at the Springville Civic Center\, which is located at 110 S Main St in Springville\, Utah.  \n\nAbout Springville’s Sunset Farmer’s Market 2023 in Springville\, Utah \nGet ready to unwind and indulge in mouth-watering treats while enjoying live music every Monday evening from July 17th to October 30th\, 2023!  \nAt this farmer’s market\, you’ll find more than 100 small local businesses showcasing their unique products. You’ll find everything you need\, from fresh produce straight from local farms\, honey\, milk\, eggs and meats.  \nIf you have a keen eye for beautiful art\, then you won’t be disappointed either! There are artisans displaying their beautiful artwork\, handmade soaps\, and artisan-baked goods.  \nAnd while you’re shopping and mingling with locals\, you’ll also be serenaded by talented local musicians. How amazing is that?  \nFor all you foodies out there\, Springville’s Sunset Farmer’s Market has something special for you too! Food trucks! From tacos to burgers\, vegan delights\, and yummy desserts –everything is prepared fresh on site.  \nSo grab your calendars and mark every Monday from July 17th to October 30th\, 2023. This farmer’s market is not something you’re going to want to miss!  \nHead on down to the Springville Civic Center and support your local community while having an absolute blast at the Sunset Farmer’s Market!  \nIn case the dates don’t work for you\, these are the local areas with Farmer’s Markets:  \n\nEvermore Farmer’s Market \nSpringville’s Sunset Farmer’s Market \nProvo Farmer’s Market 
URL:https://movetoprovoutah.com/events-plugin/springvilles-sunset-farmers-market-2023-in-springville-utah/
LOCATION:Springville Civic Center\, 110 S Main St\, Springville\, UT\, United States
ATTACH;FMTTYPE=image/jpeg:https://movetoprovoutah.com/wp-content/uploads/2023/07/Springvilles-Sunset-Farmers-Market-2023-in-Springville-Utah.jpg
END:VEVENT
BEGIN:VEVENT
DTSTART;TZID=America/Denver:20230801T203000
DTEND;TZID=America/Denver:20230930T230000
DTSTAMP:20260421T111943
CREATED:20230702T073006Z
LAST-MODIFIED:20230903T093010Z
UID:3546-1690921800-1696114800@movetoprovoutah.com
SUMMARY:Full Moon Lift Rides in Provo\, Utah
DESCRIPTION:Date and Time of Full Moon Lift Rides in Provo\, Utah \nThe Full Moon Life Rides in Provo\, Utah will be happening on August 1 and 2\, August 30 and 31\, and September 28\, 29\, and 30\, from 08:30 pm – 11:00 pm. \n\nLocation of Full Moon Lift Rides in Provo\, Utah \nThe Full Moon Lift Rides will take place at the Sundance Resort\, located at 8841 North Alpine Loop Road\, Provo\, UT 84604. \n\nAbout Full Moon Lift Rides in Provo\, Utah \nAre you looking for a unique way to experience the stunning natural beauty of Utah? You have to check out the Full Moon Lift Rides at Sundance Resort in Provo\, Utah!  \nThe rides take place on selected dates\, including August 1\, 2\, 30\, 31 and September 28\, 29\, and 30. Each lift ride lasts approximately 30 to 45 minutes.  \nGetting your hands on the tickets is easy. Simply go online to the Sundance Resort’s website\, purchase your tickets\, and you’re ready to go!  \nI highly recommend buying your tickets ahead of time\, so you don’t miss out on all the fun.  \nTickets are available for all ages and range from $30 to $35. If you hold a season pass\, good news – Full Moon Lift Rides are included!  \nHere are some tips to make the most of your visit:  \n\nArrive early to avoid the crowds. This will give you plenty of time to find parking and get ready for your ride. \nDon’t forget to dress warmly\, as the temperatures can become chilly in the evening. Comfortable shoes suitable for mountain terrain are also important. \nBring your camera or smartphone to capture every enchanting moment of your ride! \n\nThe Full Moon Lift Rides have so much in store to offer anyone looking for an adventure-filled night out. Make sure to check it out before it’s too late!  \nSee you on the ride! 
URL:https://movetoprovoutah.com/events-plugin/full-moon-lift-rides-in-provo-utah/
LOCATION:Sundance Resort\, North Alpine Loop Road\, Provo\, UT\, 84604\, United States
ATTACH;FMTTYPE=image/jpeg:https://movetoprovoutah.com/wp-content/uploads/2023/07/Full-Moon-Lift-Rides-in-Provo-Utah.jpg
END:VEVENT
BEGIN:VEVENT
DTSTART;TZID=America/Denver:20230923T100000
DTEND;TZID=America/Denver:20230924T160000
DTSTAMP:20260421T111943
CREATED:20230716T172613Z
LAST-MODIFIED:20230717T034942Z
UID:3974-1695463200-1695571200@movetoprovoutah.com
SUMMARY:2023 Sundance Harvest Market in Provo\, Utah
DESCRIPTION:Date and Time of 2023 Sundance Harvest Market in Provo\, Utah \nThe 2023 Sundance Harvest Market is set to take place on September 23 and 24\, 2023\, from 10:00 a.m. to 4:00 p.m.  \n\nLocation of 2023 Sundance Harvest Market in Provo\, Utah \nThe 2023 Sundance Harvest Market will take place at Sundance Resort\, located at 8841 North Alpine Loop Road\, Provo\, UT 84604.  \n\nAbout 2023 Sundance Harvest Market in Provo\, Utah \nThe Sundance Harvest Market is going to take place on September 23rd and 24th\, 2023 at the beautiful Sundance Resort. You’re going to experience everything from stunning photography to gorgeous jewelry\, handcrafted pottery\, and even adorable items for the little ones.  \nNot to mention the locally grown or made food items. Who can resist that?  \nThe Sundance Resort has a ton of activities to offer too. You can take a scenic lift ride\, zipline if you’re feeling adventurous\, or conquer some hiking trails. If you prefer biking\, they’ve got you covered too! You can stop by the Art Studio if you’re feeling creative.  \nThis two-day event is the perfect opportunity to spend time with your family\, friends\, or even enjoy a solo adventure. And trust me\, once you step foot on the grounds of the Sundance Resort\, you won’t want to leave. 
URL:https://movetoprovoutah.com/events-plugin/2023-sundance-harvest-market-in-provo-utah/
LOCATION:Sundance Resort\, North Alpine Loop Road\, Provo\, UT\, 84604\, United States
ATTACH;FMTTYPE=image/jpeg:https://movetoprovoutah.com/wp-content/uploads/2023/07/2023-Sundance-Harvest-Market-in-Provo-Utah.jpg
END:VEVENT
BEGIN:VEVENT
DTSTART;TZID=America/Denver:20230923T130000
DTEND;TZID=America/Denver:20230923T130000
DTSTAMP:20260421T111943
CREATED:20230915T195622Z
LAST-MODIFIED:20230915T201600Z
UID:4720-1695474000-1695474000@movetoprovoutah.com
SUMMARY:BYU Women's Volleyball vs. Baylor at Brigham Young University (BYU) in Provo\, Utah
DESCRIPTION:Date and Time of BYU Women’s Volleyball vs. Baylor at Brigham Young University (BYU) in Provo\, Utah \nThe match is scheduled to take place on Saturday\, September 23\, 2023\, and it’s set to start at 1:00 p.m. MDT. \n\nLocation of BYU Women’s Volleyball vs. Baylor at Brigham Young University (BYU) in Provo\, Utah \nThe event will occur at the George Albert Smith Fieldhouse\, an iconic sports venue on the Brigham Young University campus in Provo\, UT. \n\nAbout BYU Women’s Volleyball vs. Baylor at Brigham Young University (BYU) in Provo\, Utah \nThe BYU Cougars will take on the Baylor Bears at Brigham Young University in Provo\, Utah. Grab your tickets now if you’re planning on attending!  \nIndividual game tickets are available for general admission areas\, with prices currently at $10.00. Be aware that ticket prices are subject to change.  \nChildren aged two and older will require a ticket for reserved areas. Children ages six and older must also have tickets for general admission.  \nThe family tickets are available at half price if you’re attending with a group. Just remember\, each person will require an individual ticket.  \nThe Bears and Cougars previously faced off in a five-set match in Hawaii in 2017\, with Baylor emerging victorious with a 3-2 win. This was a significant accomplishment for Baylor and a memorable moment in BYU’s 2017 season. It was one of only two regular-season losses the Cougars experienced that year.  \nGiven the intensity of their previous meeting\, this upcoming match will be an exciting and competitive game.  \nHead over to BYUCougars.com for the latest updates on game times and any schedule changes.
URL:https://movetoprovoutah.com/events-plugin/byu-womens-volleyball-vs-baylor-at-brigham-young-university-byu-in-provo-utah/
LOCATION:George Albert Smith Fieldhouse\, Brigham Young University campus\, Provo\, UT\, United States
ATTACH;FMTTYPE=image/jpeg:https://movetoprovoutah.com/wp-content/uploads/2023/09/BYU-Womens-Volleyball-vs.-Baylor-at-Brigham-Young-University-in-Provo-Utah.jpg
END:VEVENT
BEGIN:VEVENT
DTSTART;TZID=America/Denver:20230923T140000
DTEND;TZID=America/Denver:20230923T193000
DTSTAMP:20260421T111943
CREATED:20230716T151413Z
LAST-MODIFIED:20230717T034914Z
UID:3961-1695477600-1695497400@movetoprovoutah.com
SUMMARY:Santino and Jessica Fontana Concert in Provo\, Utah
DESCRIPTION:Date and Time of Santino and Jessica Fontana Concert in Provo\, Utah \nSantino and Jessica Fontana are set to perform in Provo\, Utah on September 23\, 2023\, at 2:00 p.m. and 7:30 p.m. \n\nLocation of Santino and Jessica Fontana Concert in Provo\, Utah \nThe Santino and Jessica Fontana Concert will be held at the Concert Hall\, BYU Music Building\, located at E 1110 N\, Provo\, UT 84602.  \n\nAbout Santino and Jessica Fontana Concert in Provo\, Utah \nSantino and Jessica Fontana are coming to Provo\, Utah on September 23\, 2023\, and I couldn’t be more excited! This duo concert is sure to be a fantastic evening filled with musical theater favorites.  \nJessica Fontana is an American actress known for her outstanding performances on Broadway shows like Baby\, It’s You! And Cinderella. Santino Fontana is the man behind Prince Han’s character in the movie Frozen and the lead role in the Tony Award-winning Broadway musical Tootsie.   \nYou can catch them live twice on September 23\, at 2:00 p.m. and 7:30 p.m. So\, whether you’re an early bird or a night owl\, there’s a showtime that works for you.  \nTickets for this exciting event go on sale starting August 16\, 2023. Prices range from $14 to $70\, so no matter your budget\, you can secure your spot and be a part of this unforgettable musical journey.  \nMake sure to get your tickets before they sell out!  \nBroadway power couple Santino and Jessica Fontana join forces for this duo concert of musical theater favorites. Jessica Fontana’s credits include Broadway’s Baby\, It’s You! and the title role in Cinderella; Pipe Dream in New York City Center’s Encores! Series; and Off-Broadway in Once Upon a Mattress.  \nSantino Fontana provided the voice for Prince Hans in Disney’s hit film Frozen and originated the lead role in Broadway’s Tootsie\, for which he won a Tony Award\, Drama Desk Award\, and Outer Critics Circle Award. Join this stellar husband-and-wife team for an unforgettable performance.  \nSeptember 23\, 2023  \nSaturday\, 2:00 p.m. and 7:30 p.m.  \nConcert Hall  \nCost: $14 – $70  \nTickets on Sale: August 16\, 2023 
URL:https://movetoprovoutah.com/events-plugin/santino-and-jessica-fontana-concert-in-provo-utah/
LOCATION:Concert Hall\, BYU Music Building\, E 1110 N\, Provo\, UT\, 84602\, United States
ATTACH;FMTTYPE=image/png:https://movetoprovoutah.com/wp-content/uploads/2023/07/Santino-and-Jessica-Fontana-Concert-in-Provo-Utah.png
END:VEVENT
END:VCALENDAR