BEGIN:VCALENDAR
VERSION:2.0
PRODID:-//Move To Provo Utah - ECPv6.15.20//NONSGML v1.0//EN
CALSCALE:GREGORIAN
METHOD:PUBLISH
X-WR-CALNAME:Move To Provo Utah
X-ORIGINAL-URL:https://movetoprovoutah.com
X-WR-CALDESC:Events for Move To Provo Utah
REFRESH-INTERVAL;VALUE=DURATION:PT1H
X-Robots-Tag:noindex
X-PUBLISHED-TTL:PT1H
BEGIN:VTIMEZONE
TZID:America/Denver
BEGIN:DAYLIGHT
TZOFFSETFROM:-0700
TZOFFSETTO:-0600
TZNAME:MDT
DTSTART:20220313T090000
END:DAYLIGHT
BEGIN:STANDARD
TZOFFSETFROM:-0600
TZOFFSETTO:-0700
TZNAME:MST
DTSTART:20221106T080000
END:STANDARD
BEGIN:DAYLIGHT
TZOFFSETFROM:-0700
TZOFFSETTO:-0600
TZNAME:MDT
DTSTART:20230312T090000
END:DAYLIGHT
BEGIN:STANDARD
TZOFFSETFROM:-0600
TZOFFSETTO:-0700
TZNAME:MST
DTSTART:20231105T080000
END:STANDARD
BEGIN:DAYLIGHT
TZOFFSETFROM:-0700
TZOFFSETTO:-0600
TZNAME:MDT
DTSTART:20240310T090000
END:DAYLIGHT
BEGIN:STANDARD
TZOFFSETFROM:-0600
TZOFFSETTO:-0700
TZNAME:MST
DTSTART:20241103T080000
END:STANDARD
BEGIN:DAYLIGHT
TZOFFSETFROM:-0700
TZOFFSETTO:-0600
TZNAME:MDT
DTSTART:20250309T090000
END:DAYLIGHT
BEGIN:STANDARD
TZOFFSETFROM:-0600
TZOFFSETTO:-0700
TZNAME:MST
DTSTART:20251102T080000
END:STANDARD
END:VTIMEZONE
BEGIN:VEVENT
DTSTART;VALUE=DATE:20240805
DTEND;VALUE=DATE:20241231
DTSTAMP:20260423T115005
CREATED:20240715T165314Z
LAST-MODIFIED:20240715T234101Z
UID:14067-1722816000-1735603199@movetoprovoutah.com
SUMMARY:FHE at the MOA
DESCRIPTION:Enjoy a special Family Home Evening tour or explore the museum on your own\, designed to engage families in art and creativity. \n\nEvery Monday \nAugust 5\, 12\, 19\, 26 2024 \nSeptember 2\, 9\, 16\, 23\, 30 2024 \nOctober 7\, 14\, 21\, 28 2024 \nNovember 4\, 11\, 18\, 25 2024 \nDecember 2\, 9\, 16\, 23\, 30 2024 \n\nFor more museum events\, check out our comprehensive list: BYU Museum of Art Events 2024 \nCheck out our events calendar for all the fun events in Provo Utah: Provo Utah Events
URL:https://movetoprovoutah.com/events-plugin/fhe-at-the-moa/
LOCATION:BYU Museum of Art\, Brigham Young University\, Campus Dr\, Provo\, UT\, 84602\, United States
ATTACH;FMTTYPE=image/jpeg:https://movetoprovoutah.com/wp-content/uploads/2024/01/BYU-Art-Museum-in-Provo-Ut.jpg
END:VEVENT
BEGIN:VEVENT
DTSTART;TZID=America/Denver:20230717T170000
DTEND;TZID=America/Denver:20231031T170000
DTSTAMP:20260423T115005
CREATED:20230715T183639Z
LAST-MODIFIED:20230716T180623Z
UID:3785-1689613200-1698771600@movetoprovoutah.com
SUMMARY:Springville's Sunset Farmer's Market 2023 in Springville\, Utah
DESCRIPTION:Date and Time of Springville’s Sunset Farmer’s Market 2023 in Springville\, Utah \nThe Springville’s Sunset Farmer’s Market will be open every Monday at 5:00 p.m. starting this July 17th until the end of October 2023. \n\nLocation of Springville’s Sunset Farmer’s Market 2023 in Springville\, Utah \nThe Springville’s Sunset Farmer’s Market will be held at the Springville Civic Center\, which is located at 110 S Main St in Springville\, Utah.  \n\nAbout Springville’s Sunset Farmer’s Market 2023 in Springville\, Utah \nGet ready to unwind and indulge in mouth-watering treats while enjoying live music every Monday evening from July 17th to October 30th\, 2023!  \nAt this farmer’s market\, you’ll find more than 100 small local businesses showcasing their unique products. You’ll find everything you need\, from fresh produce straight from local farms\, honey\, milk\, eggs and meats.  \nIf you have a keen eye for beautiful art\, then you won’t be disappointed either! There are artisans displaying their beautiful artwork\, handmade soaps\, and artisan-baked goods.  \nAnd while you’re shopping and mingling with locals\, you’ll also be serenaded by talented local musicians. How amazing is that?  \nFor all you foodies out there\, Springville’s Sunset Farmer’s Market has something special for you too! Food trucks! From tacos to burgers\, vegan delights\, and yummy desserts –everything is prepared fresh on site.  \nSo grab your calendars and mark every Monday from July 17th to October 30th\, 2023. This farmer’s market is not something you’re going to want to miss!  \nHead on down to the Springville Civic Center and support your local community while having an absolute blast at the Sunset Farmer’s Market!  \nIn case the dates don’t work for you\, these are the local areas with Farmer’s Markets:  \n\nEvermore Farmer’s Market \nSpringville’s Sunset Farmer’s Market \nProvo Farmer’s Market 
URL:https://movetoprovoutah.com/events-plugin/springvilles-sunset-farmers-market-2023-in-springville-utah/
LOCATION:Springville Civic Center\, 110 S Main St\, Springville\, UT\, United States
ATTACH;FMTTYPE=image/jpeg:https://movetoprovoutah.com/wp-content/uploads/2023/07/Springvilles-Sunset-Farmers-Market-2023-in-Springville-Utah.jpg
END:VEVENT
BEGIN:VEVENT
DTSTART;VALUE=DATE:20231006
DTEND;VALUE=DATE:20240204
DTSTAMP:20260423T115005
CREATED:20230716T145921Z
LAST-MODIFIED:20230717T034842Z
UID:3939-1696550400-1707004799@movetoprovoutah.com
SUMMARY:Life: Six Women Photographers at Brigham Young University (BYU) Museum of Art in Provo\, Utah
DESCRIPTION:Date and Time of ‘Life: Six Women Photographers’ at Brigham Young University (BYU) Museum of Art in Provo\, Utah\nThe BYU Museum of Art will feature the ‘Life: Six Women Photographers’ exhibition from October 6\, 2023\, to February 3\, 2024.   \n\nLocation of ‘Life: Six Women Photographers’ at Brigham Young University (BYU) Museum of Art in Provo\, Utah\nThe exhibit will happen at Brigham Young University Museum of Art\, located at Campus Dr\, Provo\, UT 84602.  \n\nAbout Life: Six Women Photographers at Brigham Young University (BYU) Museum of Art in Provo\, Utah\nThe Brigham Young University (BYU) Museum of Art in Provo\, Utah is presenting an exhibition titled ‘Life: Six Women Photographers\,’ organized by the New-York Historical Society.  \nIt’s an opportunity to celebrate the groundbreaking legacy of women photojournalists who captured captivating stories between the 1930s and 1970s.  \nThe exhibition will showcase the inspiring work of six incredible LIFE photographers: Margaret Bourke-White\, Hansel Mieth\, Marie Hansen\, Nina Leen\, Martha Holmes\, and Lisa Larsen.  \nThese amazing women used their lenses to document and tell the stories of America’s social and political changes during the transformative 20th century.  \nThe exhibition is made possible by the generous support of Joyce B. Cowin to Sara Lee Schupf\, Jerry Speyer\, and Robert A.M. Stern. Their commitment to the arts ensures that these women photographers get the recognition they deserve.  \nGet your calendars out and mark down the dates from October 6\, 2023\, to February 3\, 2024. It’s an opportunity to witness history through the lens of these visionary women. 
URL:https://movetoprovoutah.com/events-plugin/life-six-women-photographers-at-brigham-young-university-byu-museum-of-art-in-provo-utah/
LOCATION:Brigham Young University Museum of Art\, North Campus Drive\, Provo\, UT\, 84602\, United States
ATTACH;FMTTYPE=image/png:https://movetoprovoutah.com/wp-content/uploads/2023/07/Six-Women-Photographers-at-Brigham-Young-University-BYU-Museum-of-Art-in-Provo-Utah.png
END:VEVENT
BEGIN:VEVENT
DTSTART;VALUE=DATE:20231016
DTEND;VALUE=DATE:20231105
DTSTAMP:20260423T115005
CREATED:20231002T200924Z
LAST-MODIFIED:20231002T211618Z
UID:5048-1697414400-1699142399@movetoprovoutah.com
SUMMARY:10th Annual Filmquest Film Festival in Provo\, Utah 
DESCRIPTION:Date and Time of 10th Annual Filmquest Film Festival in Provo\, Utah \nThe 10th Annual FilmQuest Film Festival is set to take place in Provo\, Utah\, from October 16 to November 4\, 2023. \n\nLocation of 10th Annual Filmquest Film Festival in Provo\, Utah \nThe 10th Annual Filmquest Film Festival is scheduled at Velour\, 135 North University Avenue\, Provo\, UT 84601.  \n\nAbout 10th Annual Filmquest Film Festival in Provo\, Utah\nThe 10th Annual Filmquest Film Festival in Provo\, Utah\, is just around the corner\, and film enthusiasts are awaiting ten days of cinematic excitement.  \nFilmquest has established itself as Utah’s premier Film Festival\, earning the title Best of State Film Festival six times. In 2023\, MovieMaker Magazine recognized it as one of the “Top 25 Coolest Film Festivals in the World” and one of the “50 Bloody Best Genre Fests in the World”. It has been named one of the “Top 25 Film Festivals Worth the Entry Fee” multiple times.  \nFilmquest proudly showcases the finest genre films from around the globe\, including fantasy\, horror\, sci-fi\, action\, thriller\, western\, kung-fu\, and more.  \nThe essence of Filmquest lies in empowering filmmakers. Through a series of events\, awards\, connections\, and more\, the festival offers filmmakers the recognition they deserve.  \nThe selection committee\, composed of industry professionals such as directors\, actors\, producers\, professors\, writers\, animators\, casting directors\, and more\, ensures the festival’s lineup represents the best genre of filmmaking.  \nThe 10th Annual Filmquest Film Festival will welcome celebrity guests and filmmakers worldwide.  \nTickets and passes for this unmissable event can be purchased at filmquestfest.com. The Filmquest Film Festival is a must-attend for cinema lovers!
URL:https://movetoprovoutah.com/events-plugin/10th-annual-filmquest-film-festival-in-provo-utah/
LOCATION:Velour\, 135 North University Avenue\, Provo\, UT\, 84601\, United States
ATTACH;FMTTYPE=image/png:https://movetoprovoutah.com/wp-content/uploads/2023/10/10th-Annual-Filmquest-Film-Festival-in-Provo-Utah.png
END:VEVENT
BEGIN:VEVENT
DTSTART;TZID=America/Denver:20231030T110000
DTEND;TZID=America/Denver:20231113T110000
DTSTAMP:20260423T115005
CREATED:20231024T173645Z
LAST-MODIFIED:20231024T173645Z
UID:5567-1698663600-1699873200@movetoprovoutah.com
SUMMARY:Imagication in Orem\, Utah
DESCRIPTION:Date and Time of Imagication in Orem\, Utah \nMark these dates and times on your calendar:  \n1. Imagication: Jack and Sally  \nMonday\, October 30\, 2023  \n11:00 a.m. MDT  \n2. Imagication: Run\, Turkey\, Run!  \nMonday\, November 6\, 2023  \n11:00 a.m. MDT  \n3. Imagication: Elsa and Anna  \nMonday\, November 13\, 2023  \n11:00 a.m. MDT \n\nLocation of Imagication in Orem\, Utah \nAll the enchantment of ‘Imagication’ happens at The Orchard at University Place. It is located at 575 East University Parkway\, Orem\, UT 84097.  \n\nAbout Imagication in Orem\, Utah \nIt’s time for ‘Imagication’ in Orem! I’m beyond excited to give you every detail of the events\, perfect for the little ones.  \n1. Imagication: Jack and Sally  \nWhen: Monday\, October 30\, 2023\, at 11:00 a.m. MDT \nWho doesn’t love the stories of Jack and Sally? We sure do! Bring your kids and let them dive into their incredible adventures. Space is limited\, and we’re expecting lots of little enthusiasts\, so kiddos must register. There is no need for parents or caregivers to register. For any last-minute updates\, visit the University Place Orem event website.  \n2. Imagination: Run\, Turkey\, Run!  \nWhen: November 6\, 2023\, at 11:00 a.m. MDT  \nThe storyteller dives into the story “Run\, Turkey\, Run!” by Diane Mayr. After the storytime\, the fun continues with an awesome craft session. Your little ones can let their creativity run wild and explore their artistic side!  \n3. Imagication: Elsa and Anna  \nWhen: November 13\, 2023\, at 11:00 a.m.  \nFor all the kids who adore Elsa and Anna\, here’s a chance to meet and listen to their enchanting tales. Their adventures are featured in the Disney “Frozen” movies and are about love\, bravery\, and sisterly bonds.  \nIt’s an opportunity to let your kids become part of the “Frozen” magic again and maybe even sing along to their favorite tunes! \nThese ‘Imagication’ events promise fun and laughter for your little ones. It’s all about sparkling imagination and making memories. So\, grab those calendars and set your alarms for registration! See you there!  \nGuidelines for all “Imagication” Events:  \n\nYou’ll need to register (you can snag up to 3 tickets at a time). \nThis program is exclusively for kids aged 2-5. \nShow up on time\, and allow some extra time for check-in at the University Place table. \nMake sure to register your little children. \nImagication programs require parental or caregiver supervision. By registering a child\, you agree to oversee and assist them during the event. \nRelease your tickets if you can’t attend to allow others to enjoy the event. 
URL:https://movetoprovoutah.com/events-plugin/imagication-in-orem-utah/
LOCATION:The Orchard at University Place Orem\, UT\, The Orchard at University Place 575 East University Parkway\, Orem\, UT\, 84097\, United States
ATTACH;FMTTYPE=image/jpeg:https://movetoprovoutah.com/wp-content/uploads/2023/10/Imagication-in-Orem-Utah.jpg
END:VEVENT
BEGIN:VEVENT
DTSTART;TZID=America/Denver:20231031T103000
DTEND;TZID=America/Denver:20231031T150000
DTSTAMP:20260423T115005
CREATED:20230930T160737Z
LAST-MODIFIED:20230930T181013Z
UID:4968-1698748200-1698764400@movetoprovoutah.com
SUMMARY:Orem City Truck-or-Treat in Orem\, Utah
DESCRIPTION:Date and Time of Orem City Truck-or-Treat in Orem\, Utah \nOrem City is hosting its annual Truck-or-Treat on October 21\, 2023\, from 10:30 a.m. to 3:00 p.m. \n\nLocation of Orem City Truck-or-Treat in Orem\, Utah \nThe Orem City Truck-or-Treat will take place at The Orchard\, University Place\, located at 575 East Univ. Parkway\, Orem\, UT 84097.  \n\nAbout Orem City Truck-or-Treat in Orem\, Utah \nJoin in on the Halloween fun at the annual Orem City Truck-or-Treat event! This spooktacular celebration is set for October 21\, 2023.  \nThere will be a “Quiet Hour” for kids with sensory needs from 10:30 a.m. to 11:30 a.m. After the Quiet Hour\, the event opens to the general public from 11:30 a.m. to 3:00 p.m. There’s no shortage of excitement!  \nParticipants can explore various city vehicles\, including garbage trucks\, construction vehicles\, and police and fire department vehicles. Don’t forget to grab your bag of treats at the Orem City booth!  \nSafety is a top priority\, so event organizers take special measures to ensure a safe and enjoyable experience. All vehicles will be kept clean\, and health and safety guidelines will be followed.  \nDon’t miss out on the Orem City Truck-or-Treat event. Mark your calendars\, put on your best costume\, and prepare to immerse yourself in the magic of Halloween. See you there! 
URL:https://movetoprovoutah.com/events-plugin/orem-city-truck-or-treat-in-orem-utah/
LOCATION:The Orchard\, University Place\, 56 N. State St. Orem\, Provo\, UT\, 84057\, United States
ATTACH;FMTTYPE=image/jpeg:https://movetoprovoutah.com/wp-content/uploads/2023/09/Orem-City-Truck-or-Treat-in-Orem-Utah.jpg
END:VEVENT
BEGIN:VEVENT
DTSTART;TZID=America/Denver:20231031T110500
DTEND;TZID=America/Denver:20231031T110500
DTSTAMP:20260423T115005
CREATED:20231004T085416Z
LAST-MODIFIED:20231004T114622Z
UID:5129-1698750300-1698750300@movetoprovoutah.com
SUMMARY:BYU Forum: John and Susan Tanner at Brigham Young University (BYU) in Provo\, Utah
DESCRIPTION:Date and Time of BYU Forum: John and Susan Tanner at Brigham Young University (BYU) in Provo\, Utah \nJohn and Susan Tanner’s Forum at Brigham Young University (BYU) in Provo\, Utah\, is happening on Tuesday\, October 31\, 2023\, at 11:05 a.m.  \n\nLocation of BYU Forum: John and Susan Tanner at Brigham Young University (BYU) in Provo\, Utah \nThe Forum featuring John and Susan Tanner will be held at the Marriott Center at 701 E University Parkway\, Provo\, UT 84604.  \n\nAbout BYU Forum: John and Susan Tanner at Brigham Young University (BYU) in Provo\, Utah  \nBrigham Young University (BYU) in Provo\, Utah\, is excited to welcome John S. Tanner and Susan W. Tanner for an upcoming BYU Forum on Tuesday\, October 31\, 2023\, at 11:05 a.m. in the Marriott Center.  \nJohn S. Tanner is the 10th president of Brigham Young University-Hawaii. President Tanner has held various academic and leadership positions\, including Academic Vice President\, Associate Academic Vice President\, and English Department Chair.  \nPresident Tanner has also served in significant ecclesiastical roles within The Church of Jesus Christ of Latter-day Saints.  \nPresident Tanner’s educational journey began at BYU\, earning a bachelor of arts degree in English in 1974\, followed by a doctorate in English from the University of California\, Berkeley\, in 1980.  \nHe has a career as a Fulbright professor in Brazil and is a renowned author of several books.  \nSusan W. Tanner is the twelfth Church’s Young Women organization president. Sister Tanner began her educational journey at Brigham Young University\, where she earned her bachelor’s degree in humanities.  \nShe met her husband\, John S. Tanner\, at BYU\, and together\, they have made significant contributions to the Church and academia.  \nThe BYU Forum featuring John and Susan Tanner promises to be enlightening and thought-provoking. Join us on Tuesday\, October 31\, 2023\, at BYU’s Marriott Center in Provo\, Utah. Don’t miss out on this incredible opportunity.  
URL:https://movetoprovoutah.com/events-plugin/byu-forum-john-and-susan-tanner-at-brigham-young-university-byu-in-provo-utah/
LOCATION:Marriott Center\, 500 East University Pkwy\, Provo\, UT\, 84602\, United States
ATTACH;FMTTYPE=image/jpeg:https://movetoprovoutah.com/wp-content/uploads/2023/10/BYU-Forum-John-and-Susan-Tanner-at-Brigham-Young-University-BYU-in-Provo-Utah.jpg
END:VEVENT
BEGIN:VEVENT
DTSTART;TZID=America/Denver:20231031T120000
DTEND;TZID=America/Denver:20231031T120000
DTSTAMP:20260423T115005
CREATED:20231002T192543Z
LAST-MODIFIED:20231002T212624Z
UID:5015-1698753600-1698753600@movetoprovoutah.com
SUMMARY:BYU Football vs. Texas Tech (Homecoming) at Brigham Young University in Provo\, Utah 
DESCRIPTION:Date and Time of BYU Football vs. Texas Tech (Homecoming) at Brigham Young University in Provo\, Utah \nBrigham Young University’s (BYU) football team is set to host Texas Tech in their Homecoming game on Saturday\, October 21\, at 12:00 p.m. \n\nLocation of BYU Football vs. Texas Tech (Homecoming) at Brigham Young University in Provo\, Utah \nThe much-awaited game between Brigham Young University (BYU) Football and Texas Tech is all set to take place at LaVell Edwards Stadium on the BYU campus in Provo\, Utah. \n\n About BYU Football vs. Texas Tech (Homecoming) at Brigham Young University in Provo\, Utah \nBrigham Young University’s LaVell Edwards Stadium is set to host an epic battle between the BYU Cougars and the Texas Tech Raiders on Saturday\, October 21. The game is part of the inaugural Big 12 Homecoming celebration.  \nThe Big 12 conference is renowned for its competitiveness in college football\, and all eyes will be on BYU and Texas Tech as they showcase their immense talent at the event’s finale.  \nBYU boasts a rich sports history\, with national championship victories and numerous conference titles. The Cougars are determined to deliver an exceptional performance in front of their passionate home crowd in Provo.  \nHaving made significant progress in recent years\, Texas Tech eagerly seeks to challenge itself against BYU.  \nBoth teams are fiercely determined to emerge victorious\, making this game one of the most anticipated Big 12 Homecoming series.  \nSecure your tickets early at byutickets.com\, as this game will draw a big crowd. Don’t miss out!
URL:https://movetoprovoutah.com/events-plugin/byu-football-vs-texas-tech-homecoming-at-brigham-young-university-in-provo-utah/
LOCATION:Lavell Edwards Stadium\, Provo\, UT\, United States
ATTACH;FMTTYPE=image/jpeg:https://movetoprovoutah.com/wp-content/uploads/2023/10/BYU-Football-vs.-Texas-Tech-Homecoming-at-Brigham-Young-University-in-Provo-Utah.jpg
END:VEVENT
END:VCALENDAR