BEGIN:VCALENDAR
VERSION:2.0
PRODID:-//Move To Provo Utah - ECPv6.15.20//NONSGML v1.0//EN
CALSCALE:GREGORIAN
METHOD:PUBLISH
X-WR-CALNAME:Move To Provo Utah
X-ORIGINAL-URL:https://movetoprovoutah.com
X-WR-CALDESC:Events for Move To Provo Utah
REFRESH-INTERVAL;VALUE=DURATION:PT1H
X-Robots-Tag:noindex
X-PUBLISHED-TTL:PT1H
BEGIN:VTIMEZONE
TZID:America/Denver
BEGIN:DAYLIGHT
TZOFFSETFROM:-0700
TZOFFSETTO:-0600
TZNAME:MDT
DTSTART:20230312T090000
END:DAYLIGHT
BEGIN:STANDARD
TZOFFSETFROM:-0600
TZOFFSETTO:-0700
TZNAME:MST
DTSTART:20231105T080000
END:STANDARD
BEGIN:DAYLIGHT
TZOFFSETFROM:-0700
TZOFFSETTO:-0600
TZNAME:MDT
DTSTART:20240310T090000
END:DAYLIGHT
BEGIN:STANDARD
TZOFFSETFROM:-0600
TZOFFSETTO:-0700
TZNAME:MST
DTSTART:20241103T080000
END:STANDARD
BEGIN:DAYLIGHT
TZOFFSETFROM:-0700
TZOFFSETTO:-0600
TZNAME:MDT
DTSTART:20250309T090000
END:DAYLIGHT
BEGIN:STANDARD
TZOFFSETFROM:-0600
TZOFFSETTO:-0700
TZNAME:MST
DTSTART:20251102T080000
END:STANDARD
END:VTIMEZONE
BEGIN:VEVENT
DTSTART;VALUE=DATE:20240805
DTEND;VALUE=DATE:20241231
DTSTAMP:20260422T041958
CREATED:20240715T165314Z
LAST-MODIFIED:20240715T234101Z
UID:14067-1722816000-1735603199@movetoprovoutah.com
SUMMARY:FHE at the MOA
DESCRIPTION:Enjoy a special Family Home Evening tour or explore the museum on your own\, designed to engage families in art and creativity. \n\nEvery Monday \nAugust 5\, 12\, 19\, 26 2024 \nSeptember 2\, 9\, 16\, 23\, 30 2024 \nOctober 7\, 14\, 21\, 28 2024 \nNovember 4\, 11\, 18\, 25 2024 \nDecember 2\, 9\, 16\, 23\, 30 2024 \n\nFor more museum events\, check out our comprehensive list: BYU Museum of Art Events 2024 \nCheck out our events calendar for all the fun events in Provo Utah: Provo Utah Events
URL:https://movetoprovoutah.com/events-plugin/fhe-at-the-moa/
LOCATION:BYU Museum of Art\, Brigham Young University\, Campus Dr\, Provo\, UT\, 84602\, United States
ATTACH;FMTTYPE=image/jpeg:https://movetoprovoutah.com/wp-content/uploads/2024/01/BYU-Art-Museum-in-Provo-Ut.jpg
END:VEVENT
BEGIN:VEVENT
DTSTART;TZID=America/Denver:20240105T080000
DTEND;TZID=America/Denver:20241206T170000
DTSTAMP:20260422T041958
CREATED:20231221T155527Z
LAST-MODIFIED:20231221T171918Z
UID:8252-1704441600-1733504400@movetoprovoutah.com
SUMMARY:2024 Provo Art Stroll in Provo\, Utah
DESCRIPTION:Date and Time of 2024 Provo Art Stroll in Provo\, Utah \nThe 2024 Provo Art Stroll happens every first Friday of the month\, from January to December 2024:  \n\nJanuary 5\, 2024 \nFebruary 2\, 2024 \nMarch 1\, 2024 \nApril 5\, 2024 \nMay 3\, 2024 \nJune 7\, 2024 \nJuly 5\, 2024 \nAugust 2\, 2024 \nSeptember 6\, 2024 \nOctober 4\, 2024 \nNovember 1\, 2024 \nDecember 6\, 2024 \n\n\nLocation of 2024 Provo Art Stroll in Provo\, Utah \nThe Provo Art Stroll happens in Downtown Provo at 500 West and 200 East\, 500 North and 600 South\, Provo\, UT 84601.  \n \n\nAbout 2024 Provo Art Stroll in Provo\, Utah \nThe much-anticipated Provo Art Stroll will commence on the first Friday of each month\, from January 5th to December 6th\, 2024 in Downtown Provo. \nThis monthly celebration is where you get to explore and see all kinds of art made by local artists. Over a dozen businesses in the downtown area will show off their art pieces and entertainment.  \nWhat distinguishes the Provo Art Stroll is its various art forms – from paintings to sculptures. Each participating location becomes a gallery of its own\, adorned with the works of local artists.  \nYou can easily find your way with the Art Stroll Maps they give at each participating location. There’s a digital guide on Art Stroll’s story highlighted on Instagram @downtownprovo.  \nThere’s more than just looking at art\, though. They have live music and performances. This year\, the Provo Art Stroll is all about celebrating art\, bringing people together\, and showing how powerful creativity can be.  \nMark your calendars and come join us at the 2024 Provo Art Stroll! \n\nOther Events In Provo\, Utah\nUFB Presents “Under the Moonlight” in Provo\, Utah \nImprovised Musical Comedy in Provo\, Utah \nBYU Dance Senior Showcase at Brigham Young University (BYU) in Provo\, Utah \nBYU Harp Ensemble at Brigham Young University (BYU) in Provo\, Utah \nBYU Women’s Basketball vs. Oklahoma at Brigham Young University (BYU) in Provo\, Utah
URL:https://movetoprovoutah.com/events-plugin/2024-provo-art-stroll-in-provo-utah/
LOCATION:Downtown Provo\, 500 West and 200 East\, 500 North and 600 South\, Provo\, UT\, 84601\, United States
ATTACH;FMTTYPE=image/png:https://movetoprovoutah.com/wp-content/uploads/2023/12/2024-Provo-Art-Stroll-in-Provo-Utah-1-1.png
END:VEVENT
BEGIN:VEVENT
DTSTART;TZID=America/Denver:20240105T190000
DTEND;TZID=America/Denver:20240413T190000
DTSTAMP:20260422T041958
CREATED:20231221T170310Z
LAST-MODIFIED:20231221T171923Z
UID:8276-1704481200-1713034800@movetoprovoutah.com
SUMMARY:Improvised Musical Comedy in Provo\, Utah
DESCRIPTION:Date and Time of Improvised Musical Comedy in Provo\, Utah \nThe Improvised Musical Comedy in Provo\, Utah\, is scheduled on Fridays and Saturdays from January 5\, 2024\, to April 13\, 2024\, at 7:00 p.m.  \n\nLocation of Improvised Musical Comedy in Provo\, Utah \nThe Improvised Musical Comedy is happening at ImprovBroadway\, located at 496 N 900 E in Provo\, Utah. \n \n\nAbout Improvised Musical Comedy in Provo\, Utah \nImprovBroadway hosts ‘Improvised Musical Comedy’ events every Friday from January 5th to April 13th\, 2024.  \nYou’ll get a whole hour and a half of musical comedy made on the spot from your very own suggestions. In the second half\, an exciting opportunity awaits–you might win two free tickets for another musical event!  \nYou can buy tickets online for $10 per person. The show starts at 7:30 p.m. and ends around 9:20 p.m.  \nImprovBroadway caters to all ages. It’s perfect for a fun date\, hanging out with friends\, or lifting your spirits in Provo\, Utah.  \nEach show is totally different! \nCheck out ImprovBroadway’s official website if you want more info or tickets.  \n\nOther Events In Provo\, Utah\nUFB Presents “Under the Moonlight” in Provo\, Utah \nBYU Dance Senior Showcase at Brigham Young University (BYU) in Provo\, Utah \nBYU Harp Ensemble at Brigham Young University (BYU) in Provo\, Utah \nBYU Women’s Basketball vs. Oklahoma at Brigham Young University (BYU) in Provo\, Utah
URL:https://movetoprovoutah.com/events-plugin/improvised-musical-comedy-in-provo-utah/
LOCATION:ImprovBroadway\, 496 N 900 E\, Provo\, UT\, 85606\, United States
ATTACH;FMTTYPE=image/jpeg:https://movetoprovoutah.com/wp-content/uploads/2023/12/Improvised-Musical-Comedy-in-Provo-Utah-.jpg
END:VEVENT
BEGIN:VEVENT
DTSTART;TZID=America/Denver:20240208T193000
DTEND;TZID=America/Denver:20240229T203000
DTSTAMP:20260422T041958
CREATED:20240207T162200Z
LAST-MODIFIED:20240207T171912Z
UID:9633-1707420600-1709238600@movetoprovoutah.com
SUMMARY:Les Femmes De Velour in Provo\, Utah
DESCRIPTION:Date and Time of Les Femmes De Velour in Provo\, Utah \nLes Femmes De Velour is happening in Provo\, Utah\, on the following dates:  \n\nFebruary 8\, 2024 at 7:30 p.m. \nFebruary 9\, 2024 at 7:30 p.m. \nFebruary 10\, 2024 at 7:30 p.m. \nFebruary 15\, 2024 at 7:30 p.m. \nFebruary 16\, 2024 at 7:30 p.m. \nFebruary 17\, 2024 at 7:30 p.m. \nFebruary 22\, 2024 at 7:30 p.m. \nFebruary 23\, 2024 at 7:30 p.m. \nFebruary 24\, 2024 at 7:30 p.m. \nFebruary 29\, 2024 at 7:30 p.m. \n\n\nLocation of Les Femmes De Velour in Provo\, Utah \nLes Femmes De Velour event will take place at Velour\, located at 135 North University Avenue\, Provo\, UT 84601.  \n  \n\nAbout Les Femmes De Velour in Provo\, Utah \nLes Femmes De Velour is back in Provo\, Utah\, for its annual celebration of female artists in the local music scene!  \nThis tradition started in the mid-90s and was revived at Velour 14 years ago. What began as a one-night event has grown into a ten-night spectacle. It features 38 incredible female artists and fronted bands.  \nLes Femmes De Velour aims to build camaraderie among female artists. The goal is to celebrate their current achievement and to inspire young female musicians to participate in the local music scene.  \nTickets start at only $10.00\, and your support will make sure Les Femmes De Velour can aim for a whole month of celebration next year.  \nGrab your tickets\, and make Les Femmes De Velour a big hit!  \n\nOther Events In Provo\, Utah\nBYU Motion Picture Archive Classic Film: Wagon Master in Provo\, Utah \nEighth Blackbird in Provo\, Utah \nSilent Sky in Provo\, Utah \nSpring Choral Showcase in Orem\, Utah \nGuest Artist: Mivos Quartet at Brigham Young University (BYU) in Provo\, Utah
URL:https://movetoprovoutah.com/events-plugin/les-femmes-de-velour-in-provo-utah/
LOCATION:Velour\, 135 North University Avenue\, Provo\, UT\, 84601\, United States
ATTACH;FMTTYPE=image/jpeg:https://movetoprovoutah.com/wp-content/uploads/2024/02/Les-Femmes-De-Velour-in-Provo-Utah.jpg
END:VEVENT
BEGIN:VEVENT
DTSTART;TZID=America/Denver:20240208T193000
DTEND;TZID=America/Denver:20240304T203000
DTSTAMP:20260422T041958
CREATED:20240207T164806Z
LAST-MODIFIED:20240207T174320Z
UID:9653-1707420600-1709584200@movetoprovoutah.com
SUMMARY:Silent Sky in Provo\, Utah
DESCRIPTION:Date and Time of Silent Sky in Provo\, Utah \nThe play “Silent Sky” in Provo\, Utah is happening on:  \n\nFebruary 8\, 2024 – 7:30 p.m. \nFebruary 9\, 2024 – 7:30 p.m. \nFebruary 10\, 2024 – 7:30 p.m. \nFebruary 12\, 2024 – 7:30 p.m. \nFebruary 15\, 2024 – 7:30 p.m. \nFebruary 16\, 2024 – 7:30 p.m. \nFebruary 17\, 2024 – 7:30 p.m. \nFebruary 22\, 2024 – 7:30 p.m. \nFebruary 23\, 2024 – 7:30 p.m. \nFebruary 26\, 2024 – 7:30 p.m. \nFebruary 29\, 2024 – 7:30 p.m. \nMarch 1\, 2024 – 7:30 p.m. \nMarch 2\, 2024 – 7:30 p.m. \nMarch 4\, 2024 – 7:30 p.m. \n\n\nLocation of Silent Sky in Provo\, Utah \n“Silent Sky” will be produced at the Covey Center for the Arts at 425 West Center Street in Provo\, Utah.  \n  \n\nAbout Silent Sky in Provo\, Utah \nThe Covey Center for the Arts will host the upcoming Silent Sky production from February 8 to March 4\, 2024. This play tells the story of an astronomer named Henrietta Leavitt.  \nHenrietta worked at the Harvard Observatory\, joining a group of brilliant women charting the stars. It was an era when women weren’t getting enough credit.  \nThis play is also about Henrietta’s life. She had to balance her love for science and looking after her family. It’s a story about societal barriers faced by women during a time of scientific advancements.  \nTickets cost $20\, but if you’re a student\, a senior\, or a military personnel\, you can get them for $18.  \nGo to the Covey Center for the Arts website to grab those tickets.  \n\nOther Events In Provo\, Utah\nProvo Predators vs Rock Springs Grizzlies in Provo\, Utah \nBYU Motion Picture Archive Classic Film: Wagon Master in Provo\, Utah \nEighth Blackbird in Provo\, Utah \nSpring Choral Showcase in Orem\, Utah \nGuest Artist: Mivos Quartet at Brigham Young University (BYU) in Provo\, Utah
URL:https://movetoprovoutah.com/events-plugin/silent-sky-in-provo-utah/
LOCATION:Covey Center for the Arts\, 425 W Center Street\, Provo\, UT\, United States
ATTACH;FMTTYPE=image/jpeg:https://movetoprovoutah.com/wp-content/uploads/2024/02/Silent-Sky-in-Provo-Utah.jpg
END:VEVENT
BEGIN:VEVENT
DTSTART;TZID=America/Denver:20240217T193000
DTEND;TZID=America/Denver:20240224T193000
DTSTAMP:20260422T041958
CREATED:20240214T084137Z
LAST-MODIFIED:20240215T162939Z
UID:10707-1708198200-1708803000@movetoprovoutah.com
SUMMARY:Mozart's Così Fan Tutte at Brigham Young University (BYU) in Provo\, Utah
DESCRIPTION:Date and Time of Mozart’s Così Fan Tutte at Brigham Young University (BYU) in Provo\, Utah \nMozart’s ‘Cosi Fan Tutte’ will run from February 17 to February 24\, 2024 at 7:30 p.m.  \n\nLocation of Mozart’s Così Fan Tutte at Brigham Young University (BYU) in Provo\, Utah \nMozart’s ‘Cosi Fan Tutte’ will be performed at the West Campus Mainstage Theatre\, Brigham Young University\, located at 1125 N University Avenue\, Provo\, UT 84604.  \n  \n\nAbout Mozart’s Così Fan Tutte at Brigham Young University (BYU) in Provo\, Utah \nBrigham Young University (BYU) has an upcoming production of Mozart and Da Ponte’s comedic opera\, “Cosi fan tutte.” Everyone is invited\, including kids ages 8 and up!  \nThis opera\, composed by Wolfgang Amadeus Mozart and librettist Lorenzo da Ponte\, first appeared in Vienna on January 26\, 1790. It is the third collaboration between Mozart and da Ponte\, following “The Marriage of Figaro” (1786) and “Don Giovanni” (1787).  \nThe opera revolves around two young men who make a playful bet while pretending to be Albanian princes\, trying to seduce each other’s fiancee.  \nDon’t miss out on this famous opera! Grab your tickets early for Mozart’s ‘Cosi Fan Tutte’ at the West Campus Mainstage Theatre! \n\nOther Events in Provo\, Utah\nBYU Men’s Basketball vs. Baylor at Brigham Young University (BYU) in Provo\, Utah \nHistory Lecture: Firmina (The Life and Legacy of Brazil’s First Black Female Writer) in Provo\, Utah \n“Signatures” Central Utah Ballet and Chrysalis Ballet in Provo\, Utah \nBYU Women’s Tennis vs. Colorado State in Provo\, Utah \nWinter 2024 Birding Nature Experienceship (Snow Goose Festival) at Brigham Young University (BYU) in Provo\, Utah \n 
URL:https://movetoprovoutah.com/events-plugin/mozarts-cosi-fan-tutte-at-brigham-young-university-byu-in-provo-utah/
LOCATION:West Campus Mainstage Theatre\, Franklin S. Harris Fine Arts Center\, Campus Drive & Heritage Drive\, Provo\, UT\, 84604\, United States
ATTACH;FMTTYPE=image/jpeg:https://movetoprovoutah.com/wp-content/uploads/2024/02/Mozarts-Cosi-Fan-Tutte-at-Brigham-Young-University-BYU-in-Provo-Utah-.jpg
END:VEVENT
BEGIN:VEVENT
DTSTART;TZID=America/Denver:20240221T080000
DTEND;TZID=America/Denver:20240228T170000
DTSTAMP:20260422T041958
CREATED:20240221T075059Z
LAST-MODIFIED:20240221T145042Z
UID:11399-1708502400-1709139600@movetoprovoutah.com
SUMMARY:Homegrown. The Provo Amateur Art Show in Provo\, Utah
DESCRIPTION:Date and Time of Homegrown. The Provo Amateur Art Show in Provo\, Utah \nSubmit your artwork for the “Homegrown: The Provo Amateur Art Show” by February 28\, 2024\, until 11:59 p.m.  \n\nLocation of Homegrown. The Provo Amateur Art Show  in Provo\, Utah \n“Homegrown: The Provo Amateur Art Show” will take place at the Provo City Library at Academy Square\, located at 550 N. University Ave\, Provo\, UT 84601.  \n  \n\nAbout Homegrown. The Provo Amateur Art Show in Provo\, Utah \nThe Provo City Library invites artists of all ages to participate in the “Homegrown: The Provo Amateur Art Show.” It’s a yearly event where artists can share their creations with the community.  \nThe event is for Provo’s amateur artists\, defined as those not deriving a steady income from or teaching art.  \nYou can submit 2-D or 3-D visual art\, including paintings\, drawings\, photographs\, sculptures\, and more! There are prizes in two categories: \n\nYouth (ages 3-18) \nAdults (ages 18 and above) \n\nRules to Follow:   \n\nYou need to have a Provo City Library card to participate. \nEach person can submit up to 3 artworks\, though entry does not guarantee acceptance. \nArtworks should avoid showing nudity\, extreme violence\, or using harsh language. \nDon’t use perishable materials or glitter in your artwork. \n\nArt Guidelines: \nFor 2-D Art:   \n\nPieces must be ready to hang with hanging wire. \nFraming is recommended but not required. \nThe size shouldn’t be more than 50 inches in any dimension. \n\nFor 3-D Art:  \n\nNeeds to be ready for safe display. \nIt should be no taller than 16 inches if it’s for a display case. \nNon-breakable pieces shouldn’t be bigger than 60 inches in any dimension. \n3-D entries may be excluded if safe display is a concern. \n\nSend your artwork online before the deadline on February 28 at 11:59 p.m. You can do this on provolibrary.org. Call Erika Hill at 801-852-7685 for any questions or assistance. \n\nOther Events in Provo\, Utah\nHouse of Desires Sneak Peek at Brigham Young University (BYU) in Provo Utah \nBYU Baseball vs. Gonzaga at Brigham Young University (BYU) in Provo Utah \nCrossing Boundaries: Interdisciplinary Connections in Art History in Orem\, Utah \nBYU Women’s Basketball vs. Houston at Brigham Young University (BYU) in Provo Utah \nGirls Read Book Club: Wingbearer in Provo\, Utah
URL:https://movetoprovoutah.com/events-plugin/homegrown-the-provo-amateur-art-show-in-provo-utah/
LOCATION:Provo Library\, 550 North University Avenue\, Provo\, UT\, 84601\, United States
ATTACH;FMTTYPE=image/jpeg:https://movetoprovoutah.com/wp-content/uploads/2024/02/Homegrown.-The-Provo-Amateur-Art-Show-in-Provo-Utah.jpg
END:VEVENT
BEGIN:VEVENT
DTSTART;TZID=America/Denver:20240222T193000
DTEND;TZID=America/Denver:20240223T193000
DTSTAMP:20260422T041958
CREATED:20240216T163233Z
LAST-MODIFIED:20240219T122017Z
UID:11049-1708630200-1708716600@movetoprovoutah.com
SUMMARY:Utah Valley Symphony presents Young Artists in Concert in Provo\, Utah
DESCRIPTION:Date and Time of Utah Valley Symphony presents Young Artists in Concert in Provo\, Utah \nThe Utah Valley Symphony presents the “Young Artists in Concert” event on Thursday\, February 22\, 2024\, and Friday\, February 23\, 2024 at 7:30 p.m.  \n\nLocation of Utah Valley Symphony presents Young Artists in Concert in Provo\, Utah \nThe ‘Young Artists in Concert’ event will occur at the Covey Center for the Arts at 425 West Center Street in Provo\, Utah.  \n  \n\nAbout Utah Valley Symphony presents Young Artists in Concert in Provo\, Utah \nThe Utah Valley Symphony hosts the “Young Artists in Concert” at the Covey Center for the Arts on February 22nd and February 23rd\, 2024! These local youth won the Young Artists Concerto Competition!  \nThe soloists will present a unique musical piece along with the Symphony\, conducted by Dr. Blanks Bednarz.  \nYou’ll hear different kinds of music\, from lively tunes by the winners to the Symphony’s interpretation of Borodin’s timeless masterpiece\, “Prince Igor: Polovtsian Dances.”  \nTicket Information:  \n\n$20 – Reserved Seating \n$14 – Student and Senior \n$15 – Family Group Reserved Seating \n$10.50 – Family Group Student/Senior Seating \n\nGrab tickets or find more info at the Provo Covey Center for the Arts website. \n\nOther Events in Provo\, Utah\nLife After Divorce Conference at Brigham Young University (BYU) in Provo Utah \nBYU Men’s Volleyball vs. UCLA at Brigham Young University (BYU) in Provo Utah \nComplexions Contemporary Ballet in Orem\, Utah \nProvo Predators vs Ogden Mustangs in Provo\, Utah \nVoctave\, Corner of Broadway and Mainstreet in Orem\, Utah
URL:https://movetoprovoutah.com/events-plugin/utah-valley-symphony-presents-young-artists-in-concert-in-provo-utah/
LOCATION:Covey Center for the Arts\, 425 W Center Street\, Provo\, UT\, United States
ATTACH;FMTTYPE=image/jpeg:https://movetoprovoutah.com/wp-content/uploads/2024/02/Utah-Valley-Symphony-presents-Young-Artists-in-Concert-in-Provo-Utah-.jpg
END:VEVENT
BEGIN:VEVENT
DTSTART;TZID=America/Denver:20240223T190000
DTEND;TZID=America/Denver:20240223T190000
DTSTAMP:20260422T041958
CREATED:20240216T170246Z
LAST-MODIFIED:20240220T184220Z
UID:11094-1708714800-1708714800@movetoprovoutah.com
SUMMARY:BYU Men's Volleyball vs. UCLA at Brigham Young University (BYU) in Provo Utah
DESCRIPTION:Date and Time of BYU Men’s Volleyball vs. UCLA at Brigham Young University (BYU) in Provo Utah\nThe volleyball match between BYU Men’s Volleyball and UCLA starts on Friday\, February 23\, 2024\, at 7:00 p.m.  \n\nLocation of BYU Men’s Volleyball vs. UCLA at Brigham Young University (BYU) in Provo Utah \nThe volleyball game between BYU Men’s Volleyball and UCLA will happen at Smith Fieldhouse\, at Brigham Young University\, Field House Dr\, Provo Utah 84604.  \n  \n\nAbout Date and Time of BYU Men’s Volleyball vs. UCLA at Brigham Young University (BYU) in Provo Utah \nBrigham Young University (BYU) Cougars will play against UCLA Bruins at the Smith Fieldhouse on February 23\, 2024!  \nLast year\, on February 18\, 2023\, the No.8 BYU team lost to No. 2 UCLA in a Mountain Pacific Sports Federation (MPSF) contest. The scores of the match were 25-27\, 25-21\, 25-18 in favor of UCLA.  \nHowever\, BYU seeks to turn the tables this season and secure victory on their home turf in Provo Utah.  \nVisit byucougars.com for ticket information and updates. \n\nOther Events in Provo\, Utah\nMozART Group in Provo\, Utah \nProvo Predators vs Rock Springs Grizzlies in Provo\, Utah \nLife After Divorce Conference at Brigham Young University (BYU) in Provo Utah \nComplexions Contemporary Ballet in Orem\, Utah \nUtah Valley Symphony presents Young Artists in Concert in Provo\, Utah
URL:https://movetoprovoutah.com/events-plugin/byu-mens-volleyball-vs-ucla-at-brigham-young-university-byu-in-provo-utah/
LOCATION:George Albert Smith Fieldhouse\, Brigham Young University campus\, Provo\, UT\, United States
ATTACH;FMTTYPE=image/jpeg:https://movetoprovoutah.com/wp-content/uploads/2024/02/BYU-Mens-Volleyball-vs.-UCLA-at-Brigham-Young-University-BYU-in-Provo-Utah.jpg
END:VEVENT
BEGIN:VEVENT
DTSTART;TZID=America/Denver:20240223T193000
DTEND;TZID=America/Denver:20240224T170000
DTSTAMP:20260422T041958
CREATED:20240221T061139Z
LAST-MODIFIED:20240221T065242Z
UID:11228-1708716600-1708794000@movetoprovoutah.com
SUMMARY:Enigma Variations in Orem\, Utah
DESCRIPTION:Date and Time of Enigma Variations in Orem\, Utah\nThe ‘Enigma Variations’ is happening on February 23\, 2024-February 24\, 2024\, at 7:30 p.m. in Orem\, Utah.  \n\nLocation of Enigma Variations in Orem\, Utah\nThe ‘Enigma Variations’ event will happen at Orem High School Auditorium\, at 175 South 400 East\, Orem\, UT 84097.  \n  \n\nAbout Enigma Variations in Orem\, Utah\nTimpanogos Symphony Orchestra brings you the Enigma Variations concert at the Orem High School Auditorium on February 23rd and 24th\, 2024.  \nYou’ll be treated to timeless compositions by Edward Elgar. His music\, played by the orchestra\, will take you on different emotions and stories.  \nAdding to this is the presence of virtuoso cellist Cheung Chau. Chau will play Elgar’s Cello Concerto.  \nProgram:  \n\nElgar\, Pomp and Circumstances\, No. 4\nElgar\, Cello Concerto featuring Cheung Chau\, cello \nElgar\, Enigma Variations \n\nYou don’t want to miss this! Tickets are available for general admission at $15.00. Save the date and get your tickets soon! Visit the Timpanogos Symphony Orchestra’s website for ticket reservations. \n\nOther Events in Provo\, Utah\nImagication: The Book with no Pictures in Orem\, Utah \nFamily Movie Night: Super Mario Bros in Provo\, Utah \nBYU Men’s Tennis vs. Idaho State at Brigham Young University (BYU) in Provo Utah \n2024 Winter Bluebird Concert Series in Provo\, Utah \nMozART Group in Provo\, Utah
URL:https://movetoprovoutah.com/events-plugin/enigma-variations-in-orem-utah/
LOCATION:Orem High School Auditorium\, 175 South 400 East\, Orem\, UT\, 84097\, United States
ATTACH;FMTTYPE=image/jpeg:https://movetoprovoutah.com/wp-content/uploads/2024/02/Enigma-Variations-in-Orem-Utah-.jpg
END:VEVENT
BEGIN:VEVENT
DTSTART;TZID=America/Denver:20240223T193000
DTEND;TZID=America/Denver:20240224T193000
DTSTAMP:20260422T041958
CREATED:20240216T164304Z
LAST-MODIFIED:20240220T182503Z
UID:11069-1708716600-1708803000@movetoprovoutah.com
SUMMARY:Complexions Contemporary Ballet in Orem\, Utah
DESCRIPTION:Date and Time of Complexions Contemporary Ballet in Orem\, Utah \nThe Complexions Contemporary Ballet will perform on February 23rd and 24th\, 2024\, at 7:30 p.m. in Orem\, Utah.  \n\nLocation of Complexions Contemporary Ballet in Orem\, Utah \nComplexions Contemporary Ballet will perform at the Noorda Center for the Performing Arts at 800 West University Parkway\, Orem\, UT 84058.  \n  \n\nAbout Complexions Contemporary Ballet in Orem\, Utah \nComplexions Contemporary Ballet is renowned for its transformative approach to reinventing dance. This company is coming to Orem\, Utah\, on February 23rd and 24th\, 2024!  \nComplexions was founded in 1994 by choreographers Dwight Rhoden and Desmond Richardson. Complexions believe that “dance should remove barriers\, not reinforce them.” Their performance in Utah is a testament to this philosophy.  \nThe company has won awards\, including The New York Times Critics’ Choice Award. It has impressed audiences in prestigious venues globally\, from the Lincoln Center in New York to the Bolshoi Theater in Moscow. A new chapter is being added at the Noorda Center for the Performing Arts in Orem\, Utah!  \nCome see this performance on February 23rd and 24th\, 2024. Tickets are available on Utah Valley University’s website.   \n\nOther Events in Provo\, Utah\nProvo Predators vs Rock Springs Grizzlies in Provo\, Utah \nLife After Divorce Conference at Brigham Young University (BYU) in Provo Utah \nBYU Men’s Volleyball vs. UCLA at Brigham Young University (BYU) in Provo Utah \nUtah Valley Symphony presents Young Artists in Concert in Provo\, Utah \nProvo Predators vs Ogden Mustangs in Provo\, Utah \n 
URL:https://movetoprovoutah.com/events-plugin/complexions-contemporary-ballet-in-orem-utah/
LOCATION:Noorda Center for the Performing Arts\, 800 West University Parkway\, Orem\, 84058\, United States
ATTACH;FMTTYPE=image/jpeg:https://movetoprovoutah.com/wp-content/uploads/2024/02/Complexions-Contemporary-Ballet-in-Orem-Utah-.jpg
END:VEVENT
END:VCALENDAR