BEGIN:VCALENDAR
VERSION:2.0
PRODID:-//Move To Provo Utah - ECPv6.15.20//NONSGML v1.0//EN
CALSCALE:GREGORIAN
METHOD:PUBLISH
X-ORIGINAL-URL:https://movetoprovoutah.com
X-WR-CALDESC:Events for Move To Provo Utah
REFRESH-INTERVAL;VALUE=DURATION:PT1H
X-Robots-Tag:noindex
X-PUBLISHED-TTL:PT1H
BEGIN:VTIMEZONE
TZID:America/Denver
BEGIN:DAYLIGHT
TZOFFSETFROM:-0700
TZOFFSETTO:-0600
TZNAME:MDT
DTSTART:20230312T090000
END:DAYLIGHT
BEGIN:STANDARD
TZOFFSETFROM:-0600
TZOFFSETTO:-0700
TZNAME:MST
DTSTART:20231105T080000
END:STANDARD
BEGIN:DAYLIGHT
TZOFFSETFROM:-0700
TZOFFSETTO:-0600
TZNAME:MDT
DTSTART:20240310T090000
END:DAYLIGHT
BEGIN:STANDARD
TZOFFSETFROM:-0600
TZOFFSETTO:-0700
TZNAME:MST
DTSTART:20241103T080000
END:STANDARD
BEGIN:DAYLIGHT
TZOFFSETFROM:-0700
TZOFFSETTO:-0600
TZNAME:MDT
DTSTART:20250309T090000
END:DAYLIGHT
BEGIN:STANDARD
TZOFFSETFROM:-0600
TZOFFSETTO:-0700
TZNAME:MST
DTSTART:20251102T080000
END:STANDARD
END:VTIMEZONE
BEGIN:VEVENT
DTSTART;VALUE=DATE:20240805
DTEND;VALUE=DATE:20241231
DTSTAMP:20260421T095922
CREATED:20240715T165314Z
LAST-MODIFIED:20240715T234101Z
UID:14067-1722816000-1735603199@movetoprovoutah.com
SUMMARY:FHE at the MOA
DESCRIPTION:Enjoy a special Family Home Evening tour or explore the museum on your own\, designed to engage families in art and creativity. \n\nEvery Monday \nAugust 5\, 12\, 19\, 26 2024 \nSeptember 2\, 9\, 16\, 23\, 30 2024 \nOctober 7\, 14\, 21\, 28 2024 \nNovember 4\, 11\, 18\, 25 2024 \nDecember 2\, 9\, 16\, 23\, 30 2024 \n\nFor more museum events\, check out our comprehensive list: BYU Museum of Art Events 2024 \nCheck out our events calendar for all the fun events in Provo Utah: Provo Utah Events
URL:https://movetoprovoutah.com/events-plugin/fhe-at-the-moa/
LOCATION:BYU Museum of Art\, Brigham Young University\, Campus Dr\, Provo\, UT\, 84602\, United States
ATTACH;FMTTYPE=image/jpeg:https://movetoprovoutah.com/wp-content/uploads/2024/01/BYU-Art-Museum-in-Provo-Ut.jpg
END:VEVENT
BEGIN:VEVENT
DTSTART;TZID=America/Denver:20240105T080000
DTEND;TZID=America/Denver:20241206T170000
DTSTAMP:20260421T095922
CREATED:20231221T155527Z
LAST-MODIFIED:20231221T171918Z
UID:8252-1704441600-1733504400@movetoprovoutah.com
SUMMARY:2024 Provo Art Stroll in Provo\, Utah
DESCRIPTION:Date and Time of 2024 Provo Art Stroll in Provo\, Utah \nThe 2024 Provo Art Stroll happens every first Friday of the month\, from January to December 2024:  \n\nJanuary 5\, 2024 \nFebruary 2\, 2024 \nMarch 1\, 2024 \nApril 5\, 2024 \nMay 3\, 2024 \nJune 7\, 2024 \nJuly 5\, 2024 \nAugust 2\, 2024 \nSeptember 6\, 2024 \nOctober 4\, 2024 \nNovember 1\, 2024 \nDecember 6\, 2024 \n\n\nLocation of 2024 Provo Art Stroll in Provo\, Utah \nThe Provo Art Stroll happens in Downtown Provo at 500 West and 200 East\, 500 North and 600 South\, Provo\, UT 84601.  \n \n\nAbout 2024 Provo Art Stroll in Provo\, Utah \nThe much-anticipated Provo Art Stroll will commence on the first Friday of each month\, from January 5th to December 6th\, 2024 in Downtown Provo. \nThis monthly celebration is where you get to explore and see all kinds of art made by local artists. Over a dozen businesses in the downtown area will show off their art pieces and entertainment.  \nWhat distinguishes the Provo Art Stroll is its various art forms – from paintings to sculptures. Each participating location becomes a gallery of its own\, adorned with the works of local artists.  \nYou can easily find your way with the Art Stroll Maps they give at each participating location. There’s a digital guide on Art Stroll’s story highlighted on Instagram @downtownprovo.  \nThere’s more than just looking at art\, though. They have live music and performances. This year\, the Provo Art Stroll is all about celebrating art\, bringing people together\, and showing how powerful creativity can be.  \nMark your calendars and come join us at the 2024 Provo Art Stroll! \n\nOther Events In Provo\, Utah\nUFB Presents “Under the Moonlight” in Provo\, Utah \nImprovised Musical Comedy in Provo\, Utah \nBYU Dance Senior Showcase at Brigham Young University (BYU) in Provo\, Utah \nBYU Harp Ensemble at Brigham Young University (BYU) in Provo\, Utah \nBYU Women’s Basketball vs. Oklahoma at Brigham Young University (BYU) in Provo\, Utah
URL:https://movetoprovoutah.com/events-plugin/2024-provo-art-stroll-in-provo-utah/
LOCATION:Downtown Provo\, 500 West and 200 East\, 500 North and 600 South\, Provo\, UT\, 84601\, United States
ATTACH;FMTTYPE=image/png:https://movetoprovoutah.com/wp-content/uploads/2023/12/2024-Provo-Art-Stroll-in-Provo-Utah-1-1.png
END:VEVENT
BEGIN:VEVENT
DTSTART;TZID=America/Denver:20240105T190000
DTEND;TZID=America/Denver:20240413T190000
DTSTAMP:20260421T095922
CREATED:20231221T170310Z
LAST-MODIFIED:20231221T171923Z
UID:8276-1704481200-1713034800@movetoprovoutah.com
SUMMARY:Improvised Musical Comedy in Provo\, Utah
DESCRIPTION:Date and Time of Improvised Musical Comedy in Provo\, Utah \nThe Improvised Musical Comedy in Provo\, Utah\, is scheduled on Fridays and Saturdays from January 5\, 2024\, to April 13\, 2024\, at 7:00 p.m.  \n\nLocation of Improvised Musical Comedy in Provo\, Utah \nThe Improvised Musical Comedy is happening at ImprovBroadway\, located at 496 N 900 E in Provo\, Utah. \n \n\nAbout Improvised Musical Comedy in Provo\, Utah \nImprovBroadway hosts ‘Improvised Musical Comedy’ events every Friday from January 5th to April 13th\, 2024.  \nYou’ll get a whole hour and a half of musical comedy made on the spot from your very own suggestions. In the second half\, an exciting opportunity awaits–you might win two free tickets for another musical event!  \nYou can buy tickets online for $10 per person. The show starts at 7:30 p.m. and ends around 9:20 p.m.  \nImprovBroadway caters to all ages. It’s perfect for a fun date\, hanging out with friends\, or lifting your spirits in Provo\, Utah.  \nEach show is totally different! \nCheck out ImprovBroadway’s official website if you want more info or tickets.  \n\nOther Events In Provo\, Utah\nUFB Presents “Under the Moonlight” in Provo\, Utah \nBYU Dance Senior Showcase at Brigham Young University (BYU) in Provo\, Utah \nBYU Harp Ensemble at Brigham Young University (BYU) in Provo\, Utah \nBYU Women’s Basketball vs. Oklahoma at Brigham Young University (BYU) in Provo\, Utah
URL:https://movetoprovoutah.com/events-plugin/improvised-musical-comedy-in-provo-utah/
LOCATION:ImprovBroadway\, 496 N 900 E\, Provo\, UT\, 85606\, United States
ATTACH;FMTTYPE=image/jpeg:https://movetoprovoutah.com/wp-content/uploads/2023/12/Improvised-Musical-Comedy-in-Provo-Utah-.jpg
END:VEVENT
BEGIN:VEVENT
DTSTART;TZID=America/Denver:20240208T193000
DTEND;TZID=America/Denver:20240229T203000
DTSTAMP:20260421T095922
CREATED:20240207T162200Z
LAST-MODIFIED:20240207T171912Z
UID:9633-1707420600-1709238600@movetoprovoutah.com
SUMMARY:Les Femmes De Velour in Provo\, Utah
DESCRIPTION:Date and Time of Les Femmes De Velour in Provo\, Utah \nLes Femmes De Velour is happening in Provo\, Utah\, on the following dates:  \n\nFebruary 8\, 2024 at 7:30 p.m. \nFebruary 9\, 2024 at 7:30 p.m. \nFebruary 10\, 2024 at 7:30 p.m. \nFebruary 15\, 2024 at 7:30 p.m. \nFebruary 16\, 2024 at 7:30 p.m. \nFebruary 17\, 2024 at 7:30 p.m. \nFebruary 22\, 2024 at 7:30 p.m. \nFebruary 23\, 2024 at 7:30 p.m. \nFebruary 24\, 2024 at 7:30 p.m. \nFebruary 29\, 2024 at 7:30 p.m. \n\n\nLocation of Les Femmes De Velour in Provo\, Utah \nLes Femmes De Velour event will take place at Velour\, located at 135 North University Avenue\, Provo\, UT 84601.  \n  \n\nAbout Les Femmes De Velour in Provo\, Utah \nLes Femmes De Velour is back in Provo\, Utah\, for its annual celebration of female artists in the local music scene!  \nThis tradition started in the mid-90s and was revived at Velour 14 years ago. What began as a one-night event has grown into a ten-night spectacle. It features 38 incredible female artists and fronted bands.  \nLes Femmes De Velour aims to build camaraderie among female artists. The goal is to celebrate their current achievement and to inspire young female musicians to participate in the local music scene.  \nTickets start at only $10.00\, and your support will make sure Les Femmes De Velour can aim for a whole month of celebration next year.  \nGrab your tickets\, and make Les Femmes De Velour a big hit!  \n\nOther Events In Provo\, Utah\nBYU Motion Picture Archive Classic Film: Wagon Master in Provo\, Utah \nEighth Blackbird in Provo\, Utah \nSilent Sky in Provo\, Utah \nSpring Choral Showcase in Orem\, Utah \nGuest Artist: Mivos Quartet at Brigham Young University (BYU) in Provo\, Utah
URL:https://movetoprovoutah.com/events-plugin/les-femmes-de-velour-in-provo-utah/
LOCATION:Velour\, 135 North University Avenue\, Provo\, UT\, 84601\, United States
ATTACH;FMTTYPE=image/jpeg:https://movetoprovoutah.com/wp-content/uploads/2024/02/Les-Femmes-De-Velour-in-Provo-Utah.jpg
END:VEVENT
BEGIN:VEVENT
DTSTART;TZID=America/Denver:20240208T193000
DTEND;TZID=America/Denver:20240304T203000
DTSTAMP:20260421T095922
CREATED:20240207T164806Z
LAST-MODIFIED:20240207T174320Z
UID:9653-1707420600-1709584200@movetoprovoutah.com
SUMMARY:Silent Sky in Provo\, Utah
DESCRIPTION:Date and Time of Silent Sky in Provo\, Utah \nThe play “Silent Sky” in Provo\, Utah is happening on:  \n\nFebruary 8\, 2024 – 7:30 p.m. \nFebruary 9\, 2024 – 7:30 p.m. \nFebruary 10\, 2024 – 7:30 p.m. \nFebruary 12\, 2024 – 7:30 p.m. \nFebruary 15\, 2024 – 7:30 p.m. \nFebruary 16\, 2024 – 7:30 p.m. \nFebruary 17\, 2024 – 7:30 p.m. \nFebruary 22\, 2024 – 7:30 p.m. \nFebruary 23\, 2024 – 7:30 p.m. \nFebruary 26\, 2024 – 7:30 p.m. \nFebruary 29\, 2024 – 7:30 p.m. \nMarch 1\, 2024 – 7:30 p.m. \nMarch 2\, 2024 – 7:30 p.m. \nMarch 4\, 2024 – 7:30 p.m. \n\n\nLocation of Silent Sky in Provo\, Utah \n“Silent Sky” will be produced at the Covey Center for the Arts at 425 West Center Street in Provo\, Utah.  \n  \n\nAbout Silent Sky in Provo\, Utah \nThe Covey Center for the Arts will host the upcoming Silent Sky production from February 8 to March 4\, 2024. This play tells the story of an astronomer named Henrietta Leavitt.  \nHenrietta worked at the Harvard Observatory\, joining a group of brilliant women charting the stars. It was an era when women weren’t getting enough credit.  \nThis play is also about Henrietta’s life. She had to balance her love for science and looking after her family. It’s a story about societal barriers faced by women during a time of scientific advancements.  \nTickets cost $20\, but if you’re a student\, a senior\, or a military personnel\, you can get them for $18.  \nGo to the Covey Center for the Arts website to grab those tickets.  \n\nOther Events In Provo\, Utah\nProvo Predators vs Rock Springs Grizzlies in Provo\, Utah \nBYU Motion Picture Archive Classic Film: Wagon Master in Provo\, Utah \nEighth Blackbird in Provo\, Utah \nSpring Choral Showcase in Orem\, Utah \nGuest Artist: Mivos Quartet at Brigham Young University (BYU) in Provo\, Utah
URL:https://movetoprovoutah.com/events-plugin/silent-sky-in-provo-utah/
LOCATION:Covey Center for the Arts\, 425 W Center Street\, Provo\, UT\, United States
ATTACH;FMTTYPE=image/jpeg:https://movetoprovoutah.com/wp-content/uploads/2024/02/Silent-Sky-in-Provo-Utah.jpg
END:VEVENT
BEGIN:VEVENT
DTSTART;TZID=America/Denver:20240226T193000
DTEND;TZID=America/Denver:20240330T170000
DTSTAMP:20260421T095922
CREATED:20240221T070758Z
LAST-MODIFIED:20240221T075056Z
UID:11326-1708975800-1711818000@movetoprovoutah.com
SUMMARY:‘How to Succeed in Business Without Really Trying’ in Orem\, Utah
DESCRIPTION:Date and Time of ‘How to Succeed in Business Without Really Trying’ in Orem\, Utah\nThe musical ‘How to Succeed in Business Without Really Trying’ is set from February 26th to March 30th\, 2024 at 7:30 p.m. in Orem\, Utah.  \n\nLocation of ‘How to Succeed in Business Without Really Trying’ in Orem\, Utah\n“How to Succeed in Business Without Really Trying” will be performed at the Hale Center Theater Orem\, located at 225 West 400 North\, Orem\, UT 84057.  \n  \n\nAbout ‘How to Succeed in Business Without Really Trying’ in Orem\, Utah\nThe Hale Center Theater Orem presents the Pulitzer Prize and Tony Award-winning musical\, “How to Succeed in Business Without Really Trying.”  \nThe narrative follows the escapades of J. Pierrepont Finch\, a spirited window washer\, who stumbles upon the guidebook that helps him climb up the ranks. They tell this story every night from February 26th to March 30th at 7:30 p.m!  \nGrab your tickets quickly for this funny and heartwarming journey! It’s your chance to see a show that’s won prominent awards and been loved by different generations. \n\nOther Events in Provo\, Utah\nHomegrown. The Provo Amateur Art Show in Provo\, Utah \nBYU Women’s Basketball vs. Houston at Brigham Young University (BYU) in Provo Utah \nGirls Read Book Club: Wingbearer in Provo\, Utah \nImagication: The Book with no Pictures in Orem\, Utah \nFamily Movie Night: Super Mario Bros in Provo\, Utah
URL:https://movetoprovoutah.com/events-plugin/how-to-succeed-in-business-without-really-trying-in-orem-utah/
LOCATION:Hale Center Theater Orem\, 225 West 400 North\, Orem\, UT\, 84057\, United States
ATTACH;FMTTYPE=image/jpeg:https://movetoprovoutah.com/wp-content/uploads/2024/02/‘How-to-Succeed-in-Business-Without-Really-Trying-in-Orem-Utah.jpg
END:VEVENT
BEGIN:VEVENT
DTSTART;TZID=America/Denver:20240229T100000
DTEND;TZID=America/Denver:20240229T160000
DTSTAMP:20260421T095922
CREATED:20240221T080701Z
LAST-MODIFIED:20240222T070742Z
UID:11423-1709200800-1709222400@movetoprovoutah.com
SUMMARY:Crossing Boundaries: Interdisciplinary Connections in Art History in Orem\, Utah
DESCRIPTION:Date and Time of Crossing Boundaries: Interdisciplinary Connections in Art History in Orem\, Utah \nThe symposium is scheduled for February 29\, 2024\, from 10:00 a.m. to 4:00 p.m.  \n\nLocation of Crossing Boundaries: Interdisciplinary Connections in Art History in Orem\, Utah \nThe symposium will be held at the Fulton Library Auditorium at 800 West University Parkway in Orem\, Utah.  \n \n\nAbout Crossing Boundaries: Interdisciplinary Connections in Art History in Orem\, Utah \nUtah Valley University School of the Arts is hosting the annual UVU Art History Symposium on February 29th!  \nUndergraduate students from Utah Valley University and Brigham Young University will share their research papers\, discussing how art connects with social identity\, fashion\, philosophy\, technology\, and spirituality.  \nThe keynote speaker\, Elena Soterakis\, is an artist renowned for her groundbreaking work at the intersection of biology and technology. She is the founder of Beyond Earth\, a bio-space art collective.  \nVisit the UVU School of the Arts page for more details. \n\nOther Events in Provo\, Utah\nBYU Women’s Gymnastics vs. Southern Utah at Brigham Young University (BYU) in Provo Utah \nHouse of Desires Sneak Peek at Brigham Young University (BYU) in Provo Utah \nBYU Baseball vs. Gonzaga at Brigham Young University (BYU) in Provo Utah \nHomegrown. The Provo Amateur Art Show in Provo\, Utah \nBYU Women’s Basketball vs. Houston at Brigham Young University (BYU) in Provo Utah
URL:https://movetoprovoutah.com/events-plugin/crossing-boundaries-interdisciplinary-connections-in-art-history-in-orem-utah/
LOCATION:Fulton Library\, 800 West University Parkway\, Orem\, UT\, 84058\, United States
ATTACH;FMTTYPE=image/jpeg:https://movetoprovoutah.com/wp-content/uploads/2024/02/Crossing-Boundaries_-Interdisciplinary-Connections-in-Art-History-in-Orem-Utah.jpg
END:VEVENT
BEGIN:VEVENT
DTSTART;TZID=America/Denver:20240229T150000
DTEND;TZID=America/Denver:20240229T170000
DTSTAMP:20260421T095922
CREATED:20240221T143536Z
LAST-MODIFIED:20240222T072213Z
UID:11448-1709218800-1709226000@movetoprovoutah.com
SUMMARY:BYU Baseball vs. Gonzaga at Brigham Young University (BYU) in Provo Utah
DESCRIPTION:Date and Time of BYU Baseball vs. Gonzaga at Brigham Young University (BYU) in Provo Utah\nThe Brigham Young University vs. Gonzaga baseball game is scheduled for Thursday\, February 29\, 2024\, at 3:00 p.m.  \n\nLocation of BYU Baseball vs. Gonzaga at Brigham Young University (BYU) in Provo Utah\nThe baseball game between BYU Cougars and Gonzaga Bulldogs is happening at BYU’s Miller Park\, at 400 E University Pkwy\, Provo Utah 84604.  \n  \n\nAbout BYU Baseball vs. Gonzaga at Brigham Young University (BYU) in Provo Utah\nThe BYU Cougars and the Gonzaga Bulldogs’ baseball game is on February 29th at Miller Park!  \nIn their last game on April 1\, 2023\, Gonzaga won their third consecutive West Coast Conference series against BYU\, scoring 8-2. Nathan Deschryver and Ty Buckner dominated the game alongside Donovan Ratfield.  \nThis win adds to Gonzaga’s strong record against BYU\, with a 29-22 record since 2000. They have also been ahead in conference games since BYU joined the WCC in 2012. Gonzaga won four consecutive series dating back to 2019.  \nVisit byucougars.com for tickets and more about BYU Baseball. \n\nOther Events in Provo\, Utah\nCinderella by Utah Metropolitan Ballet in Provo Utah \nBYU Women’s Gymnastics vs. Southern Utah at Brigham Young University (BYU) in Provo Utah \nHouse of Desires Sneak Peek at Brigham Young University (BYU) in Provo Utah \nCrossing Boundaries: Interdisciplinary Connections in Art History in Orem\, Utah \nHomegrown. The Provo Amateur Art Show in Provo\, Utah
URL:https://movetoprovoutah.com/events-plugin/byu-baseball-vs-gonzaga-at-brigham-young-university-byu-in-provo-utah/
LOCATION:Miller Park\, 400 E University Pkwy\, Provo\, UT\, 84604\, United States
ATTACH;FMTTYPE=image/jpeg:https://movetoprovoutah.com/wp-content/uploads/2024/02/BYU-Baseball-vs.-Gonzaga-at-Brigham-Young-University-BYU-in-Provo-Utah.jpg
END:VEVENT
END:VCALENDAR