BEGIN:VCALENDAR
VERSION:2.0
PRODID:-//Move To Provo Utah - ECPv6.15.20//NONSGML v1.0//EN
CALSCALE:GREGORIAN
METHOD:PUBLISH
X-ORIGINAL-URL:https://movetoprovoutah.com
X-WR-CALDESC:Events for Move To Provo Utah
REFRESH-INTERVAL;VALUE=DURATION:PT1H
X-Robots-Tag:noindex
X-PUBLISHED-TTL:PT1H
BEGIN:VTIMEZONE
TZID:America/Denver
BEGIN:DAYLIGHT
TZOFFSETFROM:-0700
TZOFFSETTO:-0600
TZNAME:MDT
DTSTART:20230312T090000
END:DAYLIGHT
BEGIN:STANDARD
TZOFFSETFROM:-0600
TZOFFSETTO:-0700
TZNAME:MST
DTSTART:20231105T080000
END:STANDARD
BEGIN:DAYLIGHT
TZOFFSETFROM:-0700
TZOFFSETTO:-0600
TZNAME:MDT
DTSTART:20240310T090000
END:DAYLIGHT
BEGIN:STANDARD
TZOFFSETFROM:-0600
TZOFFSETTO:-0700
TZNAME:MST
DTSTART:20241103T080000
END:STANDARD
BEGIN:DAYLIGHT
TZOFFSETFROM:-0700
TZOFFSETTO:-0600
TZNAME:MDT
DTSTART:20250309T090000
END:DAYLIGHT
BEGIN:STANDARD
TZOFFSETFROM:-0600
TZOFFSETTO:-0700
TZNAME:MST
DTSTART:20251102T080000
END:STANDARD
END:VTIMEZONE
BEGIN:VEVENT
DTSTART;VALUE=DATE:20240805
DTEND;VALUE=DATE:20241231
DTSTAMP:20260420T133832
CREATED:20240715T165314Z
LAST-MODIFIED:20240715T234101Z
UID:14067-1722816000-1735603199@movetoprovoutah.com
SUMMARY:FHE at the MOA
DESCRIPTION:Enjoy a special Family Home Evening tour or explore the museum on your own\, designed to engage families in art and creativity. \n\nEvery Monday \nAugust 5\, 12\, 19\, 26 2024 \nSeptember 2\, 9\, 16\, 23\, 30 2024 \nOctober 7\, 14\, 21\, 28 2024 \nNovember 4\, 11\, 18\, 25 2024 \nDecember 2\, 9\, 16\, 23\, 30 2024 \n\nFor more museum events\, check out our comprehensive list: BYU Museum of Art Events 2024 \nCheck out our events calendar for all the fun events in Provo Utah: Provo Utah Events
URL:https://movetoprovoutah.com/events-plugin/fhe-at-the-moa/
LOCATION:BYU Museum of Art\, Brigham Young University\, Campus Dr\, Provo\, UT\, 84602\, United States
ATTACH;FMTTYPE=image/jpeg:https://movetoprovoutah.com/wp-content/uploads/2024/01/BYU-Art-Museum-in-Provo-Ut.jpg
END:VEVENT
BEGIN:VEVENT
DTSTART;TZID=America/Denver:20240105T080000
DTEND;TZID=America/Denver:20241206T170000
DTSTAMP:20260420T133832
CREATED:20231221T155527Z
LAST-MODIFIED:20231221T171918Z
UID:8252-1704441600-1733504400@movetoprovoutah.com
SUMMARY:2024 Provo Art Stroll in Provo\, Utah
DESCRIPTION:Date and Time of 2024 Provo Art Stroll in Provo\, Utah \nThe 2024 Provo Art Stroll happens every first Friday of the month\, from January to December 2024:  \n\nJanuary 5\, 2024 \nFebruary 2\, 2024 \nMarch 1\, 2024 \nApril 5\, 2024 \nMay 3\, 2024 \nJune 7\, 2024 \nJuly 5\, 2024 \nAugust 2\, 2024 \nSeptember 6\, 2024 \nOctober 4\, 2024 \nNovember 1\, 2024 \nDecember 6\, 2024 \n\n\nLocation of 2024 Provo Art Stroll in Provo\, Utah \nThe Provo Art Stroll happens in Downtown Provo at 500 West and 200 East\, 500 North and 600 South\, Provo\, UT 84601.  \n \n\nAbout 2024 Provo Art Stroll in Provo\, Utah \nThe much-anticipated Provo Art Stroll will commence on the first Friday of each month\, from January 5th to December 6th\, 2024 in Downtown Provo. \nThis monthly celebration is where you get to explore and see all kinds of art made by local artists. Over a dozen businesses in the downtown area will show off their art pieces and entertainment.  \nWhat distinguishes the Provo Art Stroll is its various art forms – from paintings to sculptures. Each participating location becomes a gallery of its own\, adorned with the works of local artists.  \nYou can easily find your way with the Art Stroll Maps they give at each participating location. There’s a digital guide on Art Stroll’s story highlighted on Instagram @downtownprovo.  \nThere’s more than just looking at art\, though. They have live music and performances. This year\, the Provo Art Stroll is all about celebrating art\, bringing people together\, and showing how powerful creativity can be.  \nMark your calendars and come join us at the 2024 Provo Art Stroll! \n\nOther Events In Provo\, Utah\nUFB Presents “Under the Moonlight” in Provo\, Utah \nImprovised Musical Comedy in Provo\, Utah \nBYU Dance Senior Showcase at Brigham Young University (BYU) in Provo\, Utah \nBYU Harp Ensemble at Brigham Young University (BYU) in Provo\, Utah \nBYU Women’s Basketball vs. Oklahoma at Brigham Young University (BYU) in Provo\, Utah
URL:https://movetoprovoutah.com/events-plugin/2024-provo-art-stroll-in-provo-utah/
LOCATION:Downtown Provo\, 500 West and 200 East\, 500 North and 600 South\, Provo\, UT\, 84601\, United States
ATTACH;FMTTYPE=image/png:https://movetoprovoutah.com/wp-content/uploads/2023/12/2024-Provo-Art-Stroll-in-Provo-Utah-1-1.png
END:VEVENT
BEGIN:VEVENT
DTSTART;TZID=America/Denver:20240105T190000
DTEND;TZID=America/Denver:20240413T190000
DTSTAMP:20260420T133832
CREATED:20231221T170310Z
LAST-MODIFIED:20231221T171923Z
UID:8276-1704481200-1713034800@movetoprovoutah.com
SUMMARY:Improvised Musical Comedy in Provo\, Utah
DESCRIPTION:Date and Time of Improvised Musical Comedy in Provo\, Utah \nThe Improvised Musical Comedy in Provo\, Utah\, is scheduled on Fridays and Saturdays from January 5\, 2024\, to April 13\, 2024\, at 7:00 p.m.  \n\nLocation of Improvised Musical Comedy in Provo\, Utah \nThe Improvised Musical Comedy is happening at ImprovBroadway\, located at 496 N 900 E in Provo\, Utah. \n \n\nAbout Improvised Musical Comedy in Provo\, Utah \nImprovBroadway hosts ‘Improvised Musical Comedy’ events every Friday from January 5th to April 13th\, 2024.  \nYou’ll get a whole hour and a half of musical comedy made on the spot from your very own suggestions. In the second half\, an exciting opportunity awaits–you might win two free tickets for another musical event!  \nYou can buy tickets online for $10 per person. The show starts at 7:30 p.m. and ends around 9:20 p.m.  \nImprovBroadway caters to all ages. It’s perfect for a fun date\, hanging out with friends\, or lifting your spirits in Provo\, Utah.  \nEach show is totally different! \nCheck out ImprovBroadway’s official website if you want more info or tickets.  \n\nOther Events In Provo\, Utah\nUFB Presents “Under the Moonlight” in Provo\, Utah \nBYU Dance Senior Showcase at Brigham Young University (BYU) in Provo\, Utah \nBYU Harp Ensemble at Brigham Young University (BYU) in Provo\, Utah \nBYU Women’s Basketball vs. Oklahoma at Brigham Young University (BYU) in Provo\, Utah
URL:https://movetoprovoutah.com/events-plugin/improvised-musical-comedy-in-provo-utah/
LOCATION:ImprovBroadway\, 496 N 900 E\, Provo\, UT\, 85606\, United States
ATTACH;FMTTYPE=image/jpeg:https://movetoprovoutah.com/wp-content/uploads/2023/12/Improvised-Musical-Comedy-in-Provo-Utah-.jpg
END:VEVENT
BEGIN:VEVENT
DTSTART;TZID=America/Denver:20240226T193000
DTEND;TZID=America/Denver:20240330T170000
DTSTAMP:20260420T133832
CREATED:20240221T070758Z
LAST-MODIFIED:20240221T075056Z
UID:11326-1708975800-1711818000@movetoprovoutah.com
SUMMARY:‘How to Succeed in Business Without Really Trying’ in Orem\, Utah
DESCRIPTION:Date and Time of ‘How to Succeed in Business Without Really Trying’ in Orem\, Utah\nThe musical ‘How to Succeed in Business Without Really Trying’ is set from February 26th to March 30th\, 2024 at 7:30 p.m. in Orem\, Utah.  \n\nLocation of ‘How to Succeed in Business Without Really Trying’ in Orem\, Utah\n“How to Succeed in Business Without Really Trying” will be performed at the Hale Center Theater Orem\, located at 225 West 400 North\, Orem\, UT 84057.  \n  \n\nAbout ‘How to Succeed in Business Without Really Trying’ in Orem\, Utah\nThe Hale Center Theater Orem presents the Pulitzer Prize and Tony Award-winning musical\, “How to Succeed in Business Without Really Trying.”  \nThe narrative follows the escapades of J. Pierrepont Finch\, a spirited window washer\, who stumbles upon the guidebook that helps him climb up the ranks. They tell this story every night from February 26th to March 30th at 7:30 p.m!  \nGrab your tickets quickly for this funny and heartwarming journey! It’s your chance to see a show that’s won prominent awards and been loved by different generations. \n\nOther Events in Provo\, Utah\nHomegrown. The Provo Amateur Art Show in Provo\, Utah \nBYU Women’s Basketball vs. Houston at Brigham Young University (BYU) in Provo Utah \nGirls Read Book Club: Wingbearer in Provo\, Utah \nImagication: The Book with no Pictures in Orem\, Utah \nFamily Movie Night: Super Mario Bros in Provo\, Utah
URL:https://movetoprovoutah.com/events-plugin/how-to-succeed-in-business-without-really-trying-in-orem-utah/
LOCATION:Hale Center Theater Orem\, 225 West 400 North\, Orem\, UT\, 84057\, United States
ATTACH;FMTTYPE=image/jpeg:https://movetoprovoutah.com/wp-content/uploads/2024/02/‘How-to-Succeed-in-Business-Without-Really-Trying-in-Orem-Utah.jpg
END:VEVENT
BEGIN:VEVENT
DTSTART;TZID=America/Denver:20240301T080000
DTEND;TZID=America/Denver:20240402T170000
DTSTAMP:20260420T133832
CREATED:20240219T122027Z
LAST-MODIFIED:20240220T185607Z
UID:11125-1709280000-1712077200@movetoprovoutah.com
SUMMARY:Life After Divorce Conference at Brigham Young University (BYU) in Provo Utah
DESCRIPTION:Date and Time of Life After Divorce Conference at Brigham Young University (BYU) in Provo Utah \nThe Life After Divorce Conference is happening soon at Brigham Young University (BYU) in Provo Utah on Friday\, March 1st\, and Saturday\, March 2nd\, 2024. \n\nLocation of Life After Divorce Conference at Brigham Young University (BYU) in Provo Utah \nThe Life After Divorce Conference will be held at the BYU Conference Center\, at 770 E University Pkwy\, Provo Utah 84602.  \nYou can access the BYU Conference Center through the Harman Building entrance on the west side. The Conference Center scheduling office\, conference check-in\, and registration are conveniently situated on the second level.  \n  \nFree visitor parking is available in Lot 20Y\, located at 770 E. University Parkway\, west of the BYU Conference Center.  \n\nAbout Life After Divorce Conference at Brigham Young University (BYU) in Provo Utah \nBrigham Young University (BYU) in Provo Utah will host its third Life After Divorce Conference on March 1st and 2nd\, 2024!  \nThe conference is designed around the theme “Jesus Christ is Relief\,” inspired by the words of Sister Camille N. Johnson from the April 2023 General Conference.  \nThe conference will cover personal faith\, daily life\, the gospel\, family and relationships\, communication\, finance\, personal development\, and mental health.  \nThe conference provides support and hope to people dealing with the challenges of divorce. While it is planned with members of the Church of Jesus Christ of Latter-day Saints in mind\, individuals of all faiths are welcome to join.  \nRegistration details:  \n\nFull conference: $175 \nFriday only: $95 \nSaturday only: $95 \n\nRegistration is open now\, but don’t wait too long! Registration closes on February 21\, 2024\, at 11:59 p.m.\, and onsite registration won’t be available at the conference.  \nVisit lifeafterdivorce.ce.byu.edu for more details. \n\nOther Events in Provo\, Utah\n2024 Winter Bluebird Concert Series in Provo\, Utah \nMozART Group in Provo\, Utah \nProvo Predators vs Rock Springs Grizzlies in Provo\, Utah \nBYU Men’s Volleyball vs. UCLA at Brigham Young University (BYU) in Provo Utah \nComplexions Contemporary Ballet in Orem\, Utah
URL:https://movetoprovoutah.com/events-plugin/life-after-divorce-conference-at-brigham-young-university-byu-in-provo-utah/
LOCATION:BYU Conferences and Workshops\, 770 E. University Parkway\, Provo\, UT\, 84602\, United States
ATTACH;FMTTYPE=image/jpeg:https://movetoprovoutah.com/wp-content/uploads/2024/02/Life-After-Divorce-Conference-at-Brigham-Young-University-BYU-in-Provo-Utah-.jpg
END:VEVENT
BEGIN:VEVENT
DTSTART;TZID=America/Denver:20240301T100000
DTEND;TZID=America/Denver:20240501T180000
DTSTAMP:20260420T133832
CREATED:20240307T074732Z
LAST-MODIFIED:20240307T091456Z
UID:11821-1709287200-1714586400@movetoprovoutah.com
SUMMARY:Spring Blitz Zip Tour in Provo Utah
DESCRIPTION:Date and Time of Spring Blitz Zip Tour in Provo Utah \nThe Spring Blitz Zip Tour will run from March to May\, Mondays through Saturdays\, from 10:00 a.m. until 6:30 p.m.  \n\nLocation of Spring Blitz Zip Tour in Provo Utah \nEnjoy the Spring Blitz Zip Tour at the CLAS Ropes Course\, located at West Center Street\, Provo Utah 84601.  \n  \n\nAbout Spring Blitz Zip Tour in Provo Utah \nSoar through the treetops on seven zip lines that are 1\,485 feet long! There are three obstacles placed along the zip tour. The zip lines are on the lower Provo River near Utah Lake State Park.  \nThe Spring Blitz Zip Tour is only $25 per person\, and you can enjoy the thrill of ziplining from March to May\, Mondays through Saturdays. The zip tour starts at 10:00 a.m. and goes until 6:30 p.m.  \nReservations are required for the Spring Blitz Zip Tour. Secure your spot today! \n\nOther Events in Provo\, Utah\nMOA Guest Lecture with Dr. Micah Christensen at Brigham Young University (BYU) in Provo Utah \nStadium of Fire in Provo Utah 2024 \nClassical Percussion: Percussion Ensemble + Tangents Quartet at Brigham Young University (BYU) in Provo Utah \nCraft Night: Origami Bookmark at Brigham Young University (BYU) in Provo Utah \nUVU Wind Symphony Concert in Orem Utah \n 
URL:https://movetoprovoutah.com/events-plugin/spring-blitz-zip-tour-in-provo-utah/
LOCATION:CLAS Ropes Course\, 3606 West Center Street\, Provo\, 84601\, United States
ATTACH;FMTTYPE=image/jpeg:https://movetoprovoutah.com/wp-content/uploads/2024/03/Spring-Blitz-Zip-Tour-in-Provo-Utah.jpg
END:VEVENT
BEGIN:VEVENT
DTSTART;TZID=America/Denver:20240311T110000
DTEND;TZID=America/Denver:20240311T170000
DTSTAMP:20260420T133832
CREATED:20240311T093133Z
LAST-MODIFIED:20240311T093133Z
UID:12332-1710154800-1710176400@movetoprovoutah.com
SUMMARY:Imagication: Mirabel and Bruno in Orem Utah
DESCRIPTION:Date and Time of Imagication: Mirabel and Bruno in Orem Utah \nThe event will take place on March 11\, 2024\, at 11:00 a.m.  \n\nLocation of Imagication: Mirabel and Bruno in Orem Utah \nImagication: Mirabel and Bruno is happening at City Court by Dillard’s\, University Place\, at 575 East Univ. Parkway\, Orem Utah 84097.  \n  \n\nAbout Imagication: Mirabel and Bruno in Orem Utah \nImagication: Mirabel and Bruno is coming to Orem Utah on March 11\, 2024\, at 11:00 a.m.   \nYour little ones\, aged 2-5\, are invited to hear exciting stories about Mirabel and Bruno’s adventures. After the stories\, don’t forget to snap a picture with the special guests!  \nRegistration details:  \n\nAll kids need to register because there’s limited space. Registration opens on the Monday before at 12:00 p.m. \nParents/caregivers don’t need to register.  \nTo register\, click on www.universityplaceorem.com and follow the instructions. \n\nSome rules to remember:  \n\nYou can only get 3 tickets per order. \nThis event is only for kids aged 2-5. \nBe on time and give extra time to check in at the University Place table. \nOnly register your own kids\, and don’t save spots for friends. \nParents/caregivers need to help and watch their kids during the event. \nIf you cannot attend\, release your tickets through Eventbrite as soon as possible to allow others to attend.\n\n\nOther Events in Provo\, Utah\nStadium of Fire in Provo Utah 2024 \nÍmar at Brigham Young University (BYU) in Provo Utah \nDevotional: Steven J. Hafen at Brigham Young University (BYU) in Provo Utah \nBYU Softball vs. Utah Valley at Brigham Young University (BYU) in Provo Utah \nAsking Inspired Questions FHE at Brigham Young University (BYU) in Provo Utah
URL:https://movetoprovoutah.com/events-plugin/imagication-mirabel-and-bruno-in-orem-utah/
LOCATION:University Place\, 575 E University Pkwy\, Orem\, UT\, 84097\, United States
ATTACH;FMTTYPE=image/jpeg:https://movetoprovoutah.com/wp-content/uploads/2024/03/Imagication_-Mirabel-and-Bruno-in-Orem-Utah.jpg
END:VEVENT
BEGIN:VEVENT
DTSTART;TZID=America/Denver:20240311T160000
DTEND;TZID=America/Denver:20240311T170000
DTSTAMP:20260420T133832
CREATED:20240311T082914Z
LAST-MODIFIED:20240311T085646Z
UID:12225-1710172800-1710176400@movetoprovoutah.com
SUMMARY:BYU Softball vs. Utah Valley at Brigham Young University (BYU) in Provo Utah
DESCRIPTION:Date and Time of BYU Softball vs. Utah Valley at Brigham Young University (BYU) in Provo Utah \nBrigham Young University (BYU) will play against Utah Valley University on Monday\, March 11\, 2024 at 4:00 p.m.  \n\nLocation of BYU Softball vs. Utah Valley at Brigham Young University (BYU) in Provo Utah \nThe softball game between Brigham Young University (BYU) and Utah Valley University will occur at Gail Miller Field\, 400 E University Parkway\, Provo Utah 84604.  \n  \n\nAbout BYU Softball vs. Utah Valley at Brigham Young University (BYU) in Provo Utah \nBrigham Young University (BYU) will play against Utah Valley University at Gail Miller Field in Provo Utah on March 11\, 2024.  \nThe BYU softball team has recently joined the Big 12 Conference\, their fourth conference since departing from the Mountain West Conference in 2011. Over the past decade\, the Cougars have dominated the West Coast Conference\, securing eight conference titles during their tenure.  \nHead Coach Gordon Eakin will guide the BYU Softball program into its 22nd season. Coach Eakin is a prominent figure in collegiate softball\, with over 800 career wins. Under his leadership\, the Cougars have made 16 appearances in the NCAA Tournament\, including the NCAA Super Regional in 2010.  \nCome join us on March 11th for a softball game between BYU and Utah Valley at Gail Miller Field! \n\nOther Events in Provo\, Utah\nStadium of Fire in Provo Utah 2024 \nÍmar at Brigham Young University (BYU) in Provo Utah \nDevotional: Steven J. Hafen at Brigham Young University (BYU) in Provo Utah \nBYU Softball vs. Utah Valley at Brigham Young University (BYU) in Provo Utah \nAsking Inspired Questions FHE at Brigham Young University (BYU) in Provo Utah
URL:https://movetoprovoutah.com/events-plugin/byu-softball-vs-utah-valley-at-brigham-young-university-byu-in-provo-utah/
LOCATION:Miller Park\, 400 E University Pkwy\, Provo\, UT\, 84604\, United States
ATTACH;FMTTYPE=image/jpeg:https://movetoprovoutah.com/wp-content/uploads/2024/03/BYU-Softball-vs.-Utah-Valley-at-Brigham-Young-University-BYU-in-Provo-Utah-.jpg
END:VEVENT
BEGIN:VEVENT
DTSTART;TZID=America/Denver:20240311T190000
DTEND;TZID=America/Denver:20240311T200000
DTSTAMP:20260420T133832
CREATED:20240308T164310Z
LAST-MODIFIED:20240311T093129Z
UID:12201-1710183600-1710187200@movetoprovoutah.com
SUMMARY:Asking Inspired Questions FHE at Brigham Young University (BYU) in Provo Utah
DESCRIPTION:Date and Time of ‘Asking Inspired Questions FHE’ at Brigham Young University (BYU) in Provo Utah \nThe FHE event is scheduled for Monday\, March 11\, 2024\, from 7:00 p.m. to 8:00 p.m.  \n\nLocation of ‘Asking Inspired Questions FHE’ at Brigham Young University (BYU) in Provo Utah \nThe event will be held at the Education in Zion Gallery\, inside the Joseph F. Smith Building (JSFB) at Brigham Young University.  \n  \n\nAbout ‘Asking Inspired Questions FHE’ at Brigham Young University (BYU) in Provo Utah \nBrigham Young University (BYU) is hosting an FHE event on Monday\, March 11\, 2023\, at the Education in Zion Gallery-JFSB.  \nHow does intellectual and spiritual pondering help us become more like God? What role can the study-experience-revelation cycle play in questioning? These are the kinds of questions that will guide the discussions during the event.  \nParticipants will engage in a group activity to encourage meaningful conversation.  \nThe event starts at 7:00 p.m.\, so be on time! Families and FHE groups are invited to attend and participate in the discussions.  \nAdmission to the “Asking Inspired Questions FHE” event is FREE! However\, reservations are encouraged. You can call 801-422-6519 to reserve your spot.  \nSee you there on March 11th! \n\nOther Events in Provo\, Utah\nStadium of Fire in Provo Utah 2024 \nImagication: Mirabel and Bruno in Orem Utah \nÍmar at Brigham Young University (BYU) in Provo Utah \nDevotional: Steven J. Hafen at Brigham Young University (BYU) in Provo Utah \nBYU Softball vs. Utah Valley at Brigham Young University (BYU) in Provo Utah
URL:https://movetoprovoutah.com/events-plugin/asking-inspired-questions-fhe-at-brigham-young-university-byu-in-provo-utah/
LOCATION:Education in Zion Gallery\, 3183 Joseph F. Smith Building\, Provo\, UT\, 84604\, United States
ATTACH;FMTTYPE=image/jpeg:https://movetoprovoutah.com/wp-content/uploads/2024/03/Asking-Inspired-Questions-FHE-at-Brigham-Young-University-BYU-in-Provo-Utah-.jpg
END:VEVENT
END:VCALENDAR