BEGIN:VCALENDAR
VERSION:2.0
PRODID:-//Move To Provo Utah - ECPv6.15.20//NONSGML v1.0//EN
CALSCALE:GREGORIAN
METHOD:PUBLISH
X-WR-CALNAME:Move To Provo Utah
X-ORIGINAL-URL:https://movetoprovoutah.com
X-WR-CALDESC:Events for Move To Provo Utah
REFRESH-INTERVAL;VALUE=DURATION:PT1H
X-Robots-Tag:noindex
X-PUBLISHED-TTL:PT1H
BEGIN:VTIMEZONE
TZID:America/Denver
BEGIN:DAYLIGHT
TZOFFSETFROM:-0700
TZOFFSETTO:-0600
TZNAME:MDT
DTSTART:20230312T090000
END:DAYLIGHT
BEGIN:STANDARD
TZOFFSETFROM:-0600
TZOFFSETTO:-0700
TZNAME:MST
DTSTART:20231105T080000
END:STANDARD
BEGIN:DAYLIGHT
TZOFFSETFROM:-0700
TZOFFSETTO:-0600
TZNAME:MDT
DTSTART:20240310T090000
END:DAYLIGHT
BEGIN:STANDARD
TZOFFSETFROM:-0600
TZOFFSETTO:-0700
TZNAME:MST
DTSTART:20241103T080000
END:STANDARD
BEGIN:DAYLIGHT
TZOFFSETFROM:-0700
TZOFFSETTO:-0600
TZNAME:MDT
DTSTART:20250309T090000
END:DAYLIGHT
BEGIN:STANDARD
TZOFFSETFROM:-0600
TZOFFSETTO:-0700
TZNAME:MST
DTSTART:20251102T080000
END:STANDARD
END:VTIMEZONE
BEGIN:VEVENT
DTSTART;TZID=America/Denver:20240513T190000
DTEND;TZID=America/Denver:20241209T200000
DTSTAMP:20260421T165317
CREATED:20240522T004854Z
LAST-MODIFIED:20240522T004854Z
UID:13128-1715626800-1733774400@movetoprovoutah.com
SUMMARY:Trivia Night in Provo Utah 2024
DESCRIPTION:
URL:https://movetoprovoutah.com/events-plugin/trivia-night-in-provo-utah-2024/
LOCATION:Provo Library – The Nelson Attic\, 550 N. University Ave\, Provo\, UT\, 84601\, United States
END:VEVENT
BEGIN:VEVENT
DTSTART;TZID=America/Denver:20240518T150000
DTEND;TZID=America/Denver:20241221T160000
DTSTAMP:20260421T165317
CREATED:20240522T005039Z
LAST-MODIFIED:20240522T005039Z
UID:13132-1716044400-1734796800@movetoprovoutah.com
SUMMARY:The Writer's Guild - for Teens in Provo Utah 2024
DESCRIPTION:
URL:https://movetoprovoutah.com/events-plugin/the-writers-guild-for-teens-in-provo-utah-2024/
LOCATION:Provo Library – Shaw Programming Room #260\, 550 N. University Ave\, Provo\, UT\, 84601\, United States
END:VEVENT
BEGIN:VEVENT
DTSTART;TZID=America/Denver:20240603T080000
DTEND;TZID=America/Denver:20241029T170000
DTSTAMP:20260421T165317
CREATED:20240522T010727Z
LAST-MODIFIED:20240527T183619Z
UID:13179-1717401600-1730221200@movetoprovoutah.com
SUMMARY:Evermore’s Farmers Market in Provo Utah 2024
DESCRIPTION:Here are other Farmers Market Events to watch out for in Utah County: Free Farmers Market Events in and around Provo 2024
URL:https://movetoprovoutah.com/events-plugin/evermores-farmers-market-in-provo-utah-2024/
LOCATION:Evermore Park\, 382 S Evermore Lane\, Pleasant Grove\, UT\, 84062\, United States
ATTACH;FMTTYPE=image/png:https://movetoprovoutah.com/wp-content/uploads/2024/05/Evermore-Farmers-Market.png
END:VEVENT
BEGIN:VEVENT
DTSTART;TZID=America/Denver:20240610T170000
DTEND;TZID=America/Denver:20241031T210000
DTSTAMP:20260421T165317
CREATED:20240522T012450Z
LAST-MODIFIED:20240527T183458Z
UID:13228-1718038800-1730408400@movetoprovoutah.com
SUMMARY:Springville Farmers Market in Provo Utah 2024
DESCRIPTION:Here are other Farmers Market Events to watch out for in Utah County: Free Farmers Market Events in and around Provo 2024
URL:https://movetoprovoutah.com/events-plugin/springville-farmers-market-in-provo-utah-2024/
LOCATION:Springville Civic Center\, 110 S Main St\, Springville\, UT\, United States
ATTACH;FMTTYPE=image/png:https://movetoprovoutah.com/wp-content/uploads/2024/05/Springville-Sunset-Farmers-Market.png
END:VEVENT
BEGIN:VEVENT
DTSTART;TZID=America/Denver:20240621T220000
DTEND;TZID=America/Denver:20241227T020000
DTSTAMP:20260421T165317
CREATED:20240625T161437Z
LAST-MODIFIED:20240625T164523Z
UID:13753-1719007200-1735264800@movetoprovoutah.com
SUMMARY:Live music at ABG's
DESCRIPTION:About Live Music at ABG’s\nPresented by: ABG’s Bar at ABG’s Bar\, Provo UT \nABG’s Bar is your go-to spot for live music every Friday night from 10 PM until last call. Enjoy the vibrant atmosphere and local talent in Provo’s favorite bar. This event is for guests 21 and over. \nAdmission Info: \n\nFree entry\nFollow us on Instagram for updates\n\nEvent Dates & Times: \n\nEvery Friday from 10:00 pm\nJune 28\, 2024\nJuly 5\, 2024\nJuly 12\, 2024\nJuly 19\, 2024\nJuly 26\, 2024\nAugust 2\, 2024\nAugust 9\, 2024\nAugust 16\, 2024\nAugust 23\, 2024\nAugust 30\, 2024\nSeptember 6\, 2024\nSeptember 13\, 2024\nSeptember 20\, 2024\nSeptember 27\, 2024\nOctober 4\, 2024\nOctober 11\, 2024\nOctober 18\, 2024\nOctober 25\, 2024\nNovember 1\, 2024\nNovember 8\, 2024\nNovember 15\, 2024\nNovember 22\, 2024\nNovember 29\, 2024\nDecember 6\, 2024\nDecember 13\, 2024\nDecember 20\, 2024\nDecember 27\, 2024\n\nEvent durations are approximate. Please check with the venue to confirm start times and duration. \nLocation: ABG’s Bar\n190 West Center St.\, Provo\, UT 84601 \nDon’t miss out on the best live entertainment every Friday night at ABG’s Bar! \n\nOther Events in Provo\, Utah\nFaith\, Family & Freedom Concert \nBYU New Horizons Orchestra \nVelour Summer 2024 Battle of the Bands \nSummer Band Series with the Utah Premiere Brass \nFrontier Days 2024
URL:https://movetoprovoutah.com/events-plugin/live-music-at-abgs/
LOCATION:ABG’s Bar\, 190 West Center St.\, Provo\, UT\, 84601\, United States
ATTACH;FMTTYPE=image/jpeg:https://movetoprovoutah.com/wp-content/uploads/2024/06/Live-music-at-ABGs.jpg
END:VEVENT
BEGIN:VEVENT
DTSTART;TZID=America/Denver:20240821T100000
DTEND;TZID=America/Denver:20241207T100000
DTSTAMP:20260421T165317
CREATED:20240822T185859Z
LAST-MODIFIED:20240822T185859Z
UID:14447-1724234400-1733565600@movetoprovoutah.com
SUMMARY:Off Kilter\, On Point: Art of the 1960s from Colorado State University
DESCRIPTION:
URL:https://movetoprovoutah.com/events-plugin/off-kilter-on-point-art-of-the-1960s-from-colorado-state-university/
LOCATION:BYU Museum of Art\, North Campus Drive\, Provo\, UT\, 84602\, United States
END:VEVENT
BEGIN:VEVENT
DTSTART;TZID=America/Denver:20240821T100000
DTEND;TZID=America/Denver:20241207T100000
DTSTAMP:20260421T165317
CREATED:20240822T190018Z
LAST-MODIFIED:20240822T190018Z
UID:14451-1724234400-1733565600@movetoprovoutah.com
SUMMARY:Counterpoint: Selections from the MOA from the 1960s and Beyond
DESCRIPTION:
URL:https://movetoprovoutah.com/events-plugin/counterpoint-selections-from-the-moa-from-the-1960s-and-beyond/
LOCATION:BYU Museum of Art\, North Campus Drive\, Provo\, UT\, 84602\, United States
END:VEVENT
BEGIN:VEVENT
DTSTART;TZID=America/Denver:20240904T170000
DTEND;TZID=America/Denver:20241030T170000
DTSTAMP:20260421T165317
CREATED:20240905T022824Z
LAST-MODIFIED:20240905T022824Z
UID:14511-1725469200-1730307600@movetoprovoutah.com
SUMMARY:Orem's Sunset Farmers Market 2024
DESCRIPTION:
URL:https://movetoprovoutah.com/events-plugin/orems-sunset-farmers-market-2024/
LOCATION:City Center Park in Orem\, 300 East Center Street\, Orem\, UT\, 84097\, United States
END:VEVENT
BEGIN:VEVENT
DTSTART;TZID=America/Denver:20240906T180000
DTEND;TZID=America/Denver:20241206T210000
DTSTAMP:20260421T165317
CREATED:20240822T185620Z
LAST-MODIFIED:20240822T185620Z
UID:14439-1725645600-1733518800@movetoprovoutah.com
SUMMARY:2024 Provo Art Stroll
DESCRIPTION:
URL:https://movetoprovoutah.com/events-plugin/2024-provo-art-stroll/
LOCATION:Downtown Provo\, 500 West and 200 East\, 500 North and 600 South\, Provo\, UT\, 84601\, United States
END:VEVENT
BEGIN:VEVENT
DTSTART;VALUE=DATE:20240927
DTEND;VALUE=DATE:20241101
DTSTAMP:20260421T165317
CREATED:20240924T002617Z
LAST-MODIFIED:20240924T002729Z
UID:14676-1727395200-1730419199@movetoprovoutah.com
SUMMARY:2024 Halloween Riverboat Ride
DESCRIPTION:
URL:https://movetoprovoutah.com/events-plugin/2024-halloween-riverboat-ride/
LOCATION:CLAS Ropes Course\, 3606 West Center Street\, Provo\, 84601\, United States
END:VEVENT
BEGIN:VEVENT
DTSTART;VALUE=DATE:20241001
DTEND;VALUE=DATE:20241101
DTSTAMP:20260421T165317
CREATED:20240924T001427Z
LAST-MODIFIED:20240924T001427Z
UID:14655-1727740800-1730419199@movetoprovoutah.com
SUMMARY:Pumpkins in the Orchard
DESCRIPTION:
URL:https://movetoprovoutah.com/events-plugin/pumpkins-in-the-orchard/
LOCATION:University Place\, 575 E University Pkwy\, Orem\, UT\, 84097\, United States
END:VEVENT
BEGIN:VEVENT
DTSTART;VALUE=DATE:20241001
DTEND;VALUE=DATE:20241103
DTSTAMP:20260421T165317
CREATED:20240923T235549Z
LAST-MODIFIED:20240923T235549Z
UID:14632-1727740800-1730591999@movetoprovoutah.com
SUMMARY:Fall Festival Event
DESCRIPTION:
URL:https://movetoprovoutah.com/events-plugin/fall-festival-event/
LOCATION:Hee Haw Farms\, 150 South 2000 West\, N County Blvd\, Pleasant Grove\, UT\, 84062\, United States
END:VEVENT
BEGIN:VEVENT
DTSTART;VALUE=DATE:20241001
DTEND;VALUE=DATE:20241103
DTSTAMP:20260421T165317
CREATED:20240924T001013Z
LAST-MODIFIED:20240924T001013Z
UID:14650-1727740800-1730591999@movetoprovoutah.com
SUMMARY:2024 Cornbelly's Corn Maze & Pumpkin Fest
DESCRIPTION:
URL:https://movetoprovoutah.com/events-plugin/2024-cornbellys-corn-maze-pumpkin-fest/
LOCATION:Thanksgiving Point\, 3003 North Thanksgiving Way\, Lehi\, UT\, United States
END:VEVENT
BEGIN:VEVENT
DTSTART;VALUE=DATE:20241001
DTEND;VALUE=DATE:20241202
DTSTAMP:20260421T165317
CREATED:20240923T225808Z
LAST-MODIFIED:20240924T073048Z
UID:14603-1727740800-1733097599@movetoprovoutah.com
SUMMARY:Animal Train
DESCRIPTION:
URL:https://movetoprovoutah.com/events-plugin/animal-train/
LOCATION:Hee Haw Farms\, 150 South 2000 West\, N County Blvd\, Pleasant Grove\, UT\, 84062\, United States
END:VEVENT
BEGIN:VEVENT
DTSTART;VALUE=DATE:20241001
DTEND;VALUE=DATE:20241202
DTSTAMP:20260421T165317
CREATED:20240923T234852Z
LAST-MODIFIED:20240923T234852Z
UID:14608-1727740800-1733097599@movetoprovoutah.com
SUMMARY:Pumpkin Patch Hay Ride
DESCRIPTION:
URL:https://movetoprovoutah.com/events-plugin/pumpkin-patch-hay-ride/
LOCATION:Hee Haw Farms\, 150 South 2000 West\, N County Blvd\, Pleasant Grove\, UT\, 84062\, United States
END:VEVENT
BEGIN:VEVENT
DTSTART;VALUE=DATE:20241001
DTEND;VALUE=DATE:20241202
DTSTAMP:20260421T165317
CREATED:20240923T235316Z
LAST-MODIFIED:20240923T235316Z
UID:14612-1727740800-1733097599@movetoprovoutah.com
SUMMARY:Pick your own Pumpkin Patch
DESCRIPTION:
URL:https://movetoprovoutah.com/events-plugin/pick-your-own-pumpkin-patch/
LOCATION:Hee Haw Farms\, 150 South 2000 West\, N County Blvd\, Pleasant Grove\, UT\, 84062\, United States
END:VEVENT
BEGIN:VEVENT
DTSTART;VALUE=DATE:20241001
DTEND;VALUE=DATE:20241202
DTSTAMP:20260421T165317
CREATED:20240923T235350Z
LAST-MODIFIED:20240923T235350Z
UID:14616-1727740800-1733097599@movetoprovoutah.com
SUMMARY:Mini Hay Bale Maze
DESCRIPTION:
URL:https://movetoprovoutah.com/events-plugin/mini-hay-bale-maze/
LOCATION:Hee Haw Farms\, 150 South 2000 West\, N County Blvd\, Pleasant Grove\, UT\, 84062\, United States
END:VEVENT
BEGIN:VEVENT
DTSTART;VALUE=DATE:20241001
DTEND;VALUE=DATE:20241202
DTSTAMP:20260421T165317
CREATED:20240923T235417Z
LAST-MODIFIED:20240923T235417Z
UID:14620-1727740800-1733097599@movetoprovoutah.com
SUMMARY:Kids Spook Alley
DESCRIPTION:
URL:https://movetoprovoutah.com/events-plugin/kids-spook-alley/
LOCATION:Hee Haw Farms\, 150 South 2000 West\, N County Blvd\, Pleasant Grove\, UT\, 84062\, United States
END:VEVENT
BEGIN:VEVENT
DTSTART;VALUE=DATE:20241001
DTEND;VALUE=DATE:20241202
DTSTAMP:20260421T165317
CREATED:20240924T000506Z
LAST-MODIFIED:20240924T000506Z
UID:14645-1727740800-1733097599@movetoprovoutah.com
SUMMARY:Haunted Forest
DESCRIPTION:
URL:https://movetoprovoutah.com/events-plugin/haunted-forest/
LOCATION:Haunted Forest\, 6400 100 W\, American Fork\, UT\, 84003\, United States
END:VEVENT
BEGIN:VEVENT
DTSTART;TZID=America/Denver:20241001T080000
DTEND;TZID=America/Denver:20241201T170000
DTSTAMP:20260421T165317
CREATED:20240923T235453Z
LAST-MODIFIED:20240923T235453Z
UID:14624-1727769600-1733072400@movetoprovoutah.com
SUMMARY:Duck Races
DESCRIPTION:
URL:https://movetoprovoutah.com/events-plugin/duck-races/
LOCATION:Hee Haw Farms\, 150 South 2000 West\, N County Blvd\, Pleasant Grove\, UT\, 84062\, United States
END:VEVENT
BEGIN:VEVENT
DTSTART;TZID=America/Denver:20241001T193000
DTEND;TZID=America/Denver:20241031T220000
DTSTAMP:20260421T165317
CREATED:20240925T102306Z
LAST-MODIFIED:20240925T102306Z
UID:14736-1727811000-1730412000@movetoprovoutah.com
SUMMARY:Haunted Halloween Haven
DESCRIPTION:
URL:https://movetoprovoutah.com/events-plugin/haunted-halloween-haven/
LOCATION:Oakview Ln\, 1641 Oakview Ln\, Spanish Fork\, UT\, 84660\, United States
ORGANIZER;CN="Haunted Halloween Haven":MAILTO:info@hauntedhalloweenhaven.com
END:VEVENT
BEGIN:VEVENT
DTSTART;TZID=America/Denver:20241004T193000
DTEND;TZID=America/Denver:20241107T193000
DTSTAMP:20260421T165317
CREATED:20240905T192844Z
LAST-MODIFIED:20240905T192844Z
UID:14539-1728070200-1731007800@movetoprovoutah.com
SUMMARY:My Fair Lady
DESCRIPTION:
URL:https://movetoprovoutah.com/events-plugin/my-fair-lady/
LOCATION:Hale Center Theater Orem\, 225 West 400 North\, Orem\, UT\, 84057\, United States
END:VEVENT
BEGIN:VEVENT
DTSTART;TZID=America/Denver:20241014T190000
DTEND;TZID=America/Denver:20241101T200000
DTSTAMP:20260421T165317
CREATED:20240905T023102Z
LAST-MODIFIED:20240905T023102Z
UID:14519-1728932400-1730491200@movetoprovoutah.com
SUMMARY:Roald Dahl's James and the Giant Peach
DESCRIPTION:
URL:https://movetoprovoutah.com/events-plugin/roald-dahls-james-and-the-giant-peach/
LOCATION:SCERA Center for the Arts\, 745 South State Street\, Orem\, UT\, 84058\, United States
END:VEVENT
BEGIN:VEVENT
DTSTART;VALUE=DATE:20241017
DTEND;VALUE=DATE:20241103
DTSTAMP:20260421T165317
CREATED:20240924T002806Z
LAST-MODIFIED:20240924T002806Z
UID:14684-1729123200-1730591999@movetoprovoutah.com
SUMMARY:Secrets of Sleepy Hollow
DESCRIPTION:
URL:https://movetoprovoutah.com/events-plugin/secrets-of-sleepy-hollow-2/
LOCATION:The Hive Collaborative\, 290 W. 600 S\, Provo\, UT\, 84601\, United States
END:VEVENT
BEGIN:VEVENT
DTSTART;TZID=America/Denver:20241017T193000
DTEND;TZID=America/Denver:20241102T213000
DTSTAMP:20260421T165317
CREATED:20240822T184939Z
LAST-MODIFIED:20240822T184939Z
UID:14423-1729193400-1730583000@movetoprovoutah.com
SUMMARY:Secrets of Sleepy Hollow
DESCRIPTION:
URL:https://movetoprovoutah.com/events-plugin/secrets-of-sleepy-hollow/
LOCATION:The Hive Collaborative\, 290 W. 600 S\, Provo\, UT\, 84601\, United States
END:VEVENT
BEGIN:VEVENT
DTSTART;VALUE=DATE:20241028
DTEND;VALUE=DATE:20241029
DTSTAMP:20260421T165317
CREATED:20240923T235616Z
LAST-MODIFIED:20240923T235616Z
UID:14636-1730073600-1730159999@movetoprovoutah.com
SUMMARY:Halloween Festival
DESCRIPTION:
URL:https://movetoprovoutah.com/events-plugin/halloween-festival/
LOCATION:Hee Haw Farms\, 150 South 2000 West\, N County Blvd\, Pleasant Grove\, UT\, 84062\, United States
END:VEVENT
BEGIN:VEVENT
DTSTART;VALUE=DATE:20241029
DTEND;VALUE=DATE:20241030
DTSTAMP:20260421T165317
CREATED:20240923T224843Z
LAST-MODIFIED:20240925T020749Z
UID:14579-1730160000-1730246399@movetoprovoutah.com
SUMMARY:BYU Forum by Dallas Jenkins in Provo Utah
DESCRIPTION:Learn more through Brigham Young University Devotionals and Forums. Check out the complete BYU devotionals and forums schedule here: \nBrigham Young University (BYU) Devotional and Forums Schedule in Provo Utah 2024
URL:https://movetoprovoutah.com/events-plugin/forum-dallas-jenkins/
LOCATION:Brigham Young University’s Marriott Center\, 500 East University Parkway\, Provo\, UT\, United States
ATTACH;FMTTYPE=image/png:https://movetoprovoutah.com/wp-content/uploads/2024/02/Brigham-Young-University-BYU-Devotional-and-Forums-Schedule-in-Provo-Utah-2024.png
END:VEVENT
BEGIN:VEVENT
DTSTART;VALUE=DATE:20241030
DTEND;VALUE=DATE:20241031
DTSTAMP:20260421T165317
CREATED:20240924T003025Z
LAST-MODIFIED:20240924T003025Z
UID:14693-1730246400-1730332799@movetoprovoutah.com
SUMMARY:Tricks and Treats Family Magic Show
DESCRIPTION:
URL:https://movetoprovoutah.com/events-plugin/tricks-and-treats-family-magic-show/
LOCATION:SCERA Center for the Arts\, 745 South State Street\, Orem\, UT\, 84058\, United States
END:VEVENT
BEGIN:VEVENT
DTSTART;TZID=America/Denver:20241031T190000
DTEND;TZID=America/Denver:20241031T190000
DTSTAMP:20260421T165317
CREATED:20240724T190035Z
LAST-MODIFIED:20240724T190035Z
UID:14194-1730401200-1730401200@movetoprovoutah.com
SUMMARY:Women's Volleyball vs. Arizona State
DESCRIPTION:
URL:https://movetoprovoutah.com/events-plugin/womens-volleyball-vs-arizona-state/
LOCATION:BYU Smith Fieldhouse\, 1000 N University Ave\, Provo\, UT\, 84604\, United States
END:VEVENT
BEGIN:VEVENT
DTSTART;VALUE=DATE:20241101
DTEND;VALUE=DATE:20241102
DTSTAMP:20260421T165317
CREATED:20240924T002700Z
LAST-MODIFIED:20240924T002700Z
UID:14680-1730419200-1730505599@movetoprovoutah.com
SUMMARY:BYU Dia de los Muertos Celebration 2024
DESCRIPTION:
URL:https://movetoprovoutah.com/events-plugin/byu-dia-de-los-muertos-celebration-2024/
LOCATION:BYU Museum of Peoples and Cultures\, 2201 North Canyon Road\, Provo\, UT\, 84606\, United States
END:VEVENT
END:VCALENDAR