BEGIN:VCALENDAR
VERSION:2.0
PRODID:-//Move To Provo Utah - ECPv6.15.20//NONSGML v1.0//EN
CALSCALE:GREGORIAN
METHOD:PUBLISH
X-WR-CALNAME:Move To Provo Utah
X-ORIGINAL-URL:https://movetoprovoutah.com
X-WR-CALDESC:Events for Move To Provo Utah
REFRESH-INTERVAL;VALUE=DURATION:PT1H
X-Robots-Tag:noindex
X-PUBLISHED-TTL:PT1H
BEGIN:VTIMEZONE
TZID:America/Denver
BEGIN:DAYLIGHT
TZOFFSETFROM:-0700
TZOFFSETTO:-0600
TZNAME:MDT
DTSTART:20220313T090000
END:DAYLIGHT
BEGIN:STANDARD
TZOFFSETFROM:-0600
TZOFFSETTO:-0700
TZNAME:MST
DTSTART:20221106T080000
END:STANDARD
BEGIN:DAYLIGHT
TZOFFSETFROM:-0700
TZOFFSETTO:-0600
TZNAME:MDT
DTSTART:20230312T090000
END:DAYLIGHT
BEGIN:STANDARD
TZOFFSETFROM:-0600
TZOFFSETTO:-0700
TZNAME:MST
DTSTART:20231105T080000
END:STANDARD
BEGIN:DAYLIGHT
TZOFFSETFROM:-0700
TZOFFSETTO:-0600
TZNAME:MDT
DTSTART:20240310T090000
END:DAYLIGHT
BEGIN:STANDARD
TZOFFSETFROM:-0600
TZOFFSETTO:-0700
TZNAME:MST
DTSTART:20241103T080000
END:STANDARD
END:VTIMEZONE
BEGIN:VEVENT
DTSTART;TZID=America/Denver:20230311T150000
DTEND;TZID=America/Denver:20230313T180000
DTSTAMP:20260421T154303
CREATED:20230306T083353Z
LAST-MODIFIED:20230811T161208Z
UID:1009-1678546800-1678730400@movetoprovoutah.com
SUMMARY:March Artisan Market
DESCRIPTION:Are you looking for a fun way to support local artisans? Then mark your calendar for March 11-13\, 2023\, because the March Artisan Market is coming back to Provo Towne Center!  \nThis event is part of a full year of artisan markets hosted by the Nerdy Wolf at the mall\, and it’s been a huge hit with our local community. This is your chance to get some amazing one-of-a-kind finds for St. Patrick’s Day (or any other occasion).  \nThere will be more than thirty vendors participating in this event\, so there’s sure to be something that catches your eye. You can browse through a selection of handmade goods\, including jewelry\, pottery\, paintings\, embroidery\, crochet items and much more.  \nPlus\, if you stop by any of the booths\, you’ll even have the chance to learn about each artist’s creative process. It’s an excellent chance to see how creativity takes shape in many forms!  \nMake sure to add a few hours to your weekend schedule and support our talented local artisans at the March Artisan Market.  \nIt’ll be three days full of beautiful creations from local artisans. So don’t miss out on this awesome event!  \nVisit Nerdy Wolf’s website or Facebook for more details. 
URL:https://movetoprovoutah.com/events-plugin/march-artisan-market/
LOCATION:Provo Towne Centre\, 1200 Towne Centre Blvd\, Provo\, UT\, United States\, Provo Towne Centre\, 1200 Towne Centre Blvd\, Provo\, UT\, Provo\, UT\, 84601\, United States
ATTACH;FMTTYPE=image/jpeg:https://movetoprovoutah.com/wp-content/uploads/2023/04/March-Artisan-Market-in-Provo-Town-Center-Utah.jpg
END:VEVENT
END:VCALENDAR